Workbook

Sheet 原班级名单
A1: 19经济学院经管创新实验班(经济）名单
A2: 序号 | B2: 姓名 | C2: 学号 | D2: 联系方式 | E2: 原班级 | F2: 学业导师
A3: 1 | B3: 王淋 | C3: 1940323123 | D3: 15013757827 | E3: 19国际经济与贸易 双语教学1 | F3: 郑京淑
A4: 2 | B4: 欧海铃 | C4: 1940324121 | D4: 18320414505 | E4: 19国际商务 双语教学
A5: 3 | B5: 胡嘉欣 | C5: 1940324109 | D5: 18688898853 | E5: 19国际商务 双语教学
A6: 4 | B6: 胡锦玉 | C6: 1940324133 | D6: 13537557265 | E6: 19国际商务 双语教学
A7: 5 | B7: 郑霏菲 | C7: 1940324137 | D7: 13632930790 | E7: 19国际商务 双语教学
A8: 6 | B8: 吴金怡 | C8: 1940325128 | D8: 18312231479 | E8: 19金融学 双语教学1 | F8: 吴丽华
A9: 7 | B9: 许晓楠 | C9: 1940325132 | D9: 13544363192 | E9: 19金融学 双语教学1
A10: 8 | B10: 陈文晞 | C10: 1940325104 | D10: 18928547181 | E10: 19金融学 双语教学1
A11: 9 | B11: 刘绮莉 | C11: 1940325221 | D11: 18038661061 | E11: 19金融学 双语教学2
A12: 10 | B12: 林娜彤 | C12: 1940325218 | D12: 13352764496 | E12: 19金融学 双语教学2
A13: 11 | B13: 许永交 | C13: 1940325226 | D13: 16602032824 | E13: 19金融学 双语教学2
A14: 12 | B14: 程文婷 | C14: 1940340103 | D14: 13725341712 | E14: 19金融学类(金融学、金融工程、投资学)1 | F14: 王炼
A15: 13 | B15: 钟嘉茵 | C15: 1940340151 | D15: 18675320754 | E15: 19金融学类(金融学、金融工程、投资学)1
A16: 14 | B16: 黄家会 | C16: 1940340116 | D16: 15986583487 | E16: 19金融学类(金融学、金融工程、投资学)1
A17: 15 | B17: 胡晓 | C17: 1940340114 | D17: 15881048492 | E17: 19金融学类(金融学、金融工程、投资学)1
A18: 16 | B18: 黄梅美 | C18: 1940340117 | D18: 17806567005 | E18: 19金融学类(金融学、金融工程、投资学)1
A19: 17 | B19: 吴仕基 | C19: 1940340145 | D19: 15322610003 | E19: 19金融学类(金融学、金融工程、投资学)1
A20: 18 | B20: 文倩怡 | C20: 1940340242 | D20: 15919010408 | E20: 19金融学类(金融学、金融工程、投资学)2 | F20: 陈彦宇
A21: 19 | B21: 张文娟 | C21: 1940340247 | D21: 13664900514 | E21: 19金融学类(金融学、金融工程、投资学)2
A22: 20 | B22: 黄晓薇 | C22: 1940340324 | D22: 13623017225 | E22: 19金融学类(金融学、金融工程、投资学)3
A23: 21 | B23: 柯树培 | C23: 1940340330 | D23: 13112614999 | E23: 19金融学类(金融学、金融工程、投资学)3
A24: 22 | B24: 陈华光 | C24: 1940340304 | D24: 13750544194 | E24: 19金融学类(金融学、金融工程、投资学)3
A25: 23 | B25: 温伟婷 | C25: 1940340337 | D25: 13825467996 | E25: 19金融学类(金融学、金融工程、投资学)3 | F25: 梁少毅
A26: 24 | B26: 肖瑶 | C26: 1940340343 | D26: 13642337339 | E26: 19金融学类(金融学、金融工程、投资学)3
A27: 25 | B27: 张鸿祝 | C27: 1940340349 | D27: 17348183831 | E27: 19金融学类(金融学、金融工程、投资学)3
A28: 26 | B28: 郑群芳 | C28: 1940340353 | D28: 15357438068 | E28: 19金融学类(金融学、金融工程、投资学)3
A29: 27 | B29: 林宇欣 | C29: 1940340334 | D29: 15766702079 | E29: 19金融学类(金融学、金融工程、投资学)3
A30: 28 | B30: 凌敏华 | C30: 1940341141 | D30: 18476606860 | E30: 19经济学类(国际经济与贸易、电子商务、税收学、经济学、经济统计学)1 | F30: 钟晓凤
A31: 29 | B31: 梁俊南 | C31: 1940341131 | D31: 15018783785 | E31: 19经济学类(国际经济与贸易、电子商务、税收学、经济学、经济统计学)1
A32: 30 | B32: 林梓瑶 | C32: 1940341140 | D32: 15975488549 | E32: 19经济学类(国际经济与贸易、电子商务、税收学、经济学、经济统计学)1
A33: 31 | B33: 林海奕 | C33: 1940341222 | D33: 18933285764 | E33: 19经济学类(国际经济与贸易、电子商务、税收学、经济学、经济统计学)2
A34: 32 | B34: 张嘉婷 | C34: 1940341256 | D34: 15625198510 | E34: 19经济学类(国际经济与贸易、电子商务、税收学、经济学、经济统计学)2
A35: 33 | B35: 石钧杜 | C35: 1940341240 | D35: 18811811336 | E35: 19经济学类(国际经济与贸易、电子商务、税收学、经济学、经济统计学)2
A36: 34 | B36: 李颖殷 | C36: 1940341328 | D36: 13326487227 | E36: 19经济学类(国际经济与贸易、电子商务、税收学、经济学、经济统计学)3 | F36: 姚晓垠
A37: 35 | B37: 黄昕宇 | C37: 1940341320 | D37: 18998430069 | E37: 19经济学类(国际经济与贸易、电子商务、税收学、经济学、经济统计学)3
A38: 36 | B38: 刘思婷 | C38: 1940341335 | D38: 13246901208 | E38: 19经济学类(国际经济与贸易、电子商务、税收学、经济学、经济统计学)3
A39: 37 | B39: 邓洁莹 | C39: 1940341305 | D39: 18219136277 | E39: 19经济学类(国际经济与贸易、电子商务、税收学、经济学、经济统计学)3
A40: 38 | B40: 凌铖 | C40: 1940341333 | D40: 13129294960 | E40: 19经济学类(国际经济与贸易、电子商务、税收学、经济学、经济统计学)3
...

Sheet 原始成绩
A1: 19经管复合型人才创新班（经济）原始成绩及专业填报汇总
A2: 序号 | B2: 姓名 | C2: 学号 | D2: 个人绩点 | E2: 第一志愿专业 | F2: 第二志愿专业 | G2: 备注
A3: 1 | B3: 赵思懿 | C3: 1940341449 | D3: 3.83 | E3: 金融学 | F3: 国际经济与贸易
A4: 2 | B4: 文倩怡 | C4: 1940340242 | D4: 3.69 | E4: 金融学 | F4: 国际经济与贸易
A5: 3 | B5: 夏宇琛 | C5: 1940341350 | D5: 3.69 | E5: 金融学 | F5: 国际经济与贸易
A6: 4 | B6: 厉嘉馨 | C6: 1940341422 | D6: 3.58 | E6: 国际经济与贸易 | F6: 金融学
A7: 5 | B7: 邓洁莹 | C7: 1940341305 | D7: 3.51 | E7: 金融学 | F7: 国际经济与贸易
A8: 6 | B8: 吴金怡 | C8: 1940325128 | D8: 3.5 | E8: 金融学 | F8: 国际经济与贸易
A9: 7 | B9: 黄昕宇 | C9: 1940341320 | D9: 3.5 | E9: 金融学 | F9: 国际经济与贸易
A10: 8 | B10: 胡嘉欣 | C10: 1940324109 | D10: 3.49 | E10: 国际经济与贸易 | F10: 金融学
A11: 9 | B11: 林娜彤 | C11: 1940325218 | D11: 3.48 | E11: 金融学 | F11: 国际经济与贸易
A12: 10 | B12: 林梓瑶 | C12: 1940341140 | D12: 3.48 | E12: 金融学 | F12: 国际经济与贸易
A13: 11 | B13: 柯树培 | C13: 1940340330 | D13: 3.46 | E13: 金融学 | F13: 国际经济与贸易
A14: 12 | B14: 张嘉婷 | C14: 1940341256 | D14: 3.44 | E14: 国际经济与贸易 | F14: 金融学
... A47: 43 | B47: 郑霏菲 | C47: 1940324137 | D47: 2.67 | E47: 国际经济与贸易 | F47: 金融学

Sheet 志愿汇总
A1: 第一志愿 | B1: 金融学 | C1: 国际经济与贸易 | E1: 第二志愿 | F1: 金融学 | G1: 国际经济与贸易
B2: 赵思懿 | C2: 厉嘉馨 | F2: 厉嘉馨 | G2: 赵思懿
B3: 文倩怡 | C3: 胡嘉欣 | F3: 胡嘉欣 | G3: 文倩怡
B4: 夏宇琛 | C4: 张嘉婷 | F4: 张嘉婷 | G4: 夏宇琛
B5: 邓洁莹 | C5: 欧海铃 | F5: 欧海铃 | G5: 邓洁莹
B6: 吴金怡 | C6: 胡锦玉 | F6: 胡锦玉 | G6: 吴金怡
B7: 黄昕宇 | C7: 李颖殷 | F7: 李颖殷 | G7: 黄昕宇
B8: 林娜彤 | C8: 黄梅美 | F8: 黄梅美 | G8: 林娜彤
B9: 林梓瑶 | C9: 石钧杜 | F9: 石钧杜 | G9: 林梓瑶
B10: 柯树培 | C10: 许永交 | F10: 许永交 | G10: 柯树培
B11: 肖瑶 | C11: 林海奕 | F11: 林海奕 | G11: 肖瑶
B12: 郑群芳 | C12: 张文娟 | F12: 张文娟 | G12: 郑群芳
B13: 刘绮莉 | C13: 刘思婷 | F13: 刘思婷 | G13: 刘绮莉
... B17: 黄淑梅 | C17: 郑霏菲 | F17: 郑霏菲 | G17: 黄淑梅
B18: 温伟婷 | G18: 温伟婷
B19: 曹胡珏 | G19: 曹胡珏
B20: 梁俊南 | G20: 梁俊南
B21: 张鸿祝 | G21: 张鸿祝
B22: 胡晓 | G22: 胡晓
B23: 程文婷 | G23: 程文婷
B24: 吴仕基 | G24: 吴仕基
B25: 钟嘉茵 | G25: 钟嘉茵
B26: 陈文晞 | G26: 陈文晞
B27: 许晓楠 | G27: 许晓楠
B28: 黄家会 | G28: 黄家会
B29: 黄晓薇 | G29: 黄晓薇
B30: 凌铖 | G30: 凌铖

Sheet 录取过程
A1: 19经管复合型人才创新班（金融学）录取过程及数据统计 | H1: 19经管复合型人才创新班（国际经济与贸易）录取过程及数据统计
A2: 序号 | B2: 姓名 | C2: 学号 | D2: 第一志愿 | E2: 绩点 | F2: 备注 | H2: 序号 | I2: 姓名 | J2: 学号 | K2: 第一志愿 | L2: 绩点 | M2: 备注
A3: 1 | B3: 赵思懿 | C3: =VLOOKUP(B3,原始成绩!$B$3:$C$47,2,FALSE) -> 1940341449 | D3: 金融学 | E3: =VLOOKUP(B3,原始成绩!$B$3:$D$47,3,FALSE) -> 3.83 | F3: 黄色标注部分为第一志愿未被录取的同学，进入第二志愿录取阶段 | H3: 1 | I3: 厉嘉馨 | J3: =VLOOKUP(I3,原始成绩!$B$3:$D$47,2,FALSE) -> 1940341422 | K3: 国贸 | L3: =VLOOKUP(I3,原始成绩!$B$3:$D$47,3,FALSE) -> 3.58 | M3: 黄色标注部分为第一志愿未被录取，以第二志愿录取的同学
A4: 2 | B4: 文倩怡 | C4: =VLOOKUP(B4,原始成绩!$B$3:$C$47,2,FALSE) -> 1940340242 | D4: 金融学 | E4: =VLOOKUP(B4,原始成绩!$B$3:$D$47,3,FALSE) -> 3.69 | H4: 2 | I4: 胡嘉欣 | J4: =VLOOKUP(I4,原始成绩!$B$3:$D$47,2,FALSE) -> 1940324109 | K4: 国贸 | L4: =VLOOKUP(I4,原始成绩!$B$3:$D$47,3,FALSE) -> 3.49
A5: 3 | B5: 夏宇琛 | C5: =VLOOKUP(B5,原始成绩!$B$3:$C$47,2,FALSE) -> 1940341350 | D5: 金融学 | E5: =VLOOKUP(B5,原始成绩!$B$3:$D$47,3,FALSE) -> 3.69 | H5: 3 | I5: 张嘉婷 | J5: =VLOOKUP(I5,原始成绩!$B$3:$D$47,2,FALSE) -> 1940341256 | K5: 国贸 | L5: =VLOOKUP(I5,原始成绩!$B$3:$D$47,3,FALSE) -> 3.44
A6: 4 | B6: 邓洁莹 | C6: =VLOOKUP(B6,原始成绩!$B$3:$C$47,2,FALSE) -> 1940341305 | D6: 金融学 | E6: =VLOOKUP(B6,原始成绩!$B$3:$D$47,3,FALSE) -> 3.51 | H6: 4 | I6: 欧海铃 | J6: =VLOOKUP(I6,原始成绩!$B$3:$D$47,2,FALSE) -> 1940324121 | K6: 国贸 | L6: =VLOOKUP(I6,原始成绩!$B$3:$D$47,3,FALSE) -> 3.4
A7: 5 | B7: 吴金怡 | C7: =VLOOKUP(B7,原始成绩!$B$3:$C$47,2,FALSE) -> 1940325128 | D7: 金融学 | E7: =VLOOKUP(B7,原始成绩!$B$3:$D$47,3,FALSE) -> 3.5 | H7: 5 | I7: 胡锦玉 | J7: =VLOOKUP(I7,原始成绩!$B$3:$D$47,2,FALSE) -> 1940324133 | K7: 国贸 | L7: =VLOOKUP(I7,原始成绩!$B$3:$D$47,3,FALSE) -> 3.29
A8: 6 | B8: 黄昕宇 | C8: =VLOOKUP(B8,原始成绩!$B$3:$C$47,2,FALSE) -> 1940341320 | D8: 金融学 | E8: =VLOOKUP(B8,原始成绩!$B$3:$D$47,3,FALSE) -> 3.5 | H8: 6 | I8: 李颖殷 | J8: =VLOOKUP(I8,原始成绩!$B$3:$D$47,2,FALSE) -> 1940341328 | K8: 国贸 | L8: =VLOOKUP(I8,原始成绩!$B$3:$D$47,3,FALSE) -> 3.28
A9: 7 | B9: 林娜彤 | C9: =VLOOKUP(B9,原始成绩!$B$3:$C$47,2,FALSE) -> 1940325218 | D9: 金融学 | E9: =VLOOKUP(B9,原始成绩!$B$3:$D$47,3,FALSE) -> 3.48 | H9: 7 | I9: 黄梅美 | J9: =VLOOKUP(I9,原始成绩!$B$3:$D$47,2,FALSE) -> 1940340117 | K9: 国贸 | L9: =VLOOKUP(I9,原始成绩!$B$3:$D$47,3,FALSE) -> 3.15
A10: 8 | B10: 林梓瑶 | C10: =VLOOKUP(B10,原始成绩!$B$3:$C$47,2,FALSE) -> 1940341140 | D10: 金融学 | E10: =VLOOKUP(B10,原始成绩!$B$3:$D$47,3,FALSE) -> 3.48 | H10: 8 | I10: 石钧杜 | J10: =VLOOKUP(I10,原始成绩!$B$3:$D$47,2,FALSE) -> 1940341240 | K10: 国贸 | L10: =VLOOKUP(I10,原始成绩!$B$3:$D$47,3,FALSE) -> 3.1
A11: 9 | B11: 柯树培 | C11: =VLOOKUP(B11,原始成绩!$B$3:$C$47,2,FALSE) -> 1940340330 | D11: 金融学 | E11: =VLOOKUP(B11,原始成绩!$B$3:$D$47,3,FALSE) -> 3.46 | H11: 9 | I11: 许永交 | J11: =VLOOKUP(I11,原始成绩!$B$3:$D$47,2,FALSE) -> 1940325226 | K11: 国贸 | L11: =VLOOKUP(I11,原始成绩!$B$3:$D$47,3,FALSE) -> 3.09
A12: 10 | B12: 肖瑶 | C12: =VLOOKUP(B12,原始成绩!$B$3:$C$47,2,FALSE) -> 1940340343 | D12: 金融学 | E12: =VLOOKUP(B12,原始成绩!$B$3:$D$47,3,FALSE) -> 3.44 | H12: 10 | I12: 林海奕 | J12: =VLOOKUP(I12,原始成绩!$B$3:$D$47,2,FALSE) -> 1940341222 | K12: 国贸 | L12: =VLOOKUP(I12,原始成绩!$B$3:$D$47,3,FALSE) -> 3.04
A13: 11 | B13: 郑群芳 | C13: =VLOOKUP(B13,原始成绩!$B$3:$C$47,2,FALSE) -> 1940340353 | D13: 金融学 | E13: =VLOOKUP(B13,原始成绩!$B$3:$D$47,3,FALSE) -> 3.4 | H13: 11 | I13: 张文娟 | J13: =VLOOKUP(I13,原始成绩!$B$3:$D$47,2,FALSE) -> 1940340247 | K13: 国贸 | L13: =VLOOKUP(I13,原始成绩!$B$3:$D$47,3,FALSE) -> 3.01
A14: 12 | B14: 刘绮莉 | C14: =VLOOKUP(B14,原始成绩!$B$3:$C$47,2,FALSE) -> 1940325221 | D14: 金融学 | E14: =VLOOKUP(B14,原始成绩!$B$3:$D$47,3,FALSE) -> 3.39 | H14: 12 | I14: 刘思婷 | J14: =VLOOKUP(I14,原始成绩!$B$3:$D$47,2,FALSE) -> 1940341335 | K14: 国贸 | L14: =VLOOKUP(I14,原始成绩!$B$3:$D$47,3,FALSE) -> 2.98
A15: 13 | B15: 王淋 | C15: =VLOOKUP(B15,原始成绩!$B$3:$C$47,2,FALSE) -> 1940323123 | D15: 金融学 | E15: =VLOOKUP(B15,原始成绩!$B$3:$D$47,3,FALSE) -> 3.36 | H15: 13 | I15: 梁爽 | J15: =VLOOKUP(I15,原始成绩!$B$3:$D$47,2,FALSE) -> 1940341423 | K15: 国贸 | L15: =VLOOKUP(I15,原始成绩!$B$3:$D$47,3,FALSE) -> 2.98
... A18: 16 | B18: 黄淑梅 | C18: =VLOOKUP(B18,原始成绩!$B$3:$C$47,2,FALSE) -> 1940341316 | D18: 金融学 | E18: =VLOOKUP(B18,原始成绩!$B$3:$D$47,3,FALSE) -> 3.29 | H18: 16 | I18: 郑霏菲 | J18: =VLOOKUP(I18,原始成绩!$B$3:$D$47,2,FALSE) -> 1940324137 | K18: 国贸 | L18: =VLOOKUP(I18,原始成绩!$B$3:$D$47,3,FALSE) -> 2.67
A19: 17 | B19: 温伟婷 | C19: =VLOOKUP(B19,原始成绩!$B$3:$C$47,2,FALSE) -> 1940340337 | D19: 金融学 | E19: =VLOOKUP(B19,原始成绩!$B$3:$D$47,3,FALSE) -> 3.25 | H19: 17 | I19: 许晓楠 | J19: =VLOOKUP(I19,原始成绩!$B$3:$C$47,2,FALSE) -> 1940325132 | K19: 金融学 | L19: =VLOOKUP(I19,原始成绩!$B$3:$D$47,3,FALSE) -> 2.96
A20: 18 | B20: 曹胡珏 | C20: =VLOOKUP(B20,原始成绩!$B$3:$C$47,2,FALSE) -> 1940341401 | D20: 金融学 | E20: =VLOOKUP(B20,原始成绩!$B$3:$D$47,3,FALSE) -> 3.23 | H20: 18 | I20: 黄家会 | J20: =VLOOKUP(I20,原始成绩!$B$3:$C$47,2,FALSE) -> 1940340116 | K20: 金融学 | L20: =VLOOKUP(I20,原始成绩!$B$3:$D$47,3,FALSE) -> 2.95
A21: 19 | B21: 梁俊南 | C21: =VLOOKUP(B21,原始成绩!$B$3:$C$47,2,FALSE) -> 1940341131 | D21: 金融学 | E21: =VLOOKUP(B21,原始成绩!$B$3:$D$47,3,FALSE) -> 3.21 | H21: 19 | I21: 黄晓薇 | J21: =VLOOKUP(I21,原始成绩!$B$3:$C$47,2,FALSE) -> 1940340324 | K21: 金融学 | L21: =VLOOKUP(I21,原始成绩!$B$3:$D$47,3,FALSE) -> 2.94
A22: 20 | B22: 张鸿祝 | C22: =VLOOKUP(B22,原始成绩!$B$3:$C$47,2,FALSE) -> 1940340349 | D22: 金融学 | E22: =VLOOKUP(B22,原始成绩!$B$3:$D$47,3,FALSE) -> 3.13 | H22: 20 | I22: 凌铖 | J22: =VLOOKUP(I22,原始成绩!$B$3:$C$47,2,FALSE) -> 1940341333 | K22: 金融学 | L22: =VLOOKUP(I22,原始成绩!$B$3:$D$47,3,FALSE) -> 2.78
A23: 21 | B23: 胡晓 | C23: =VLOOKUP(B23,原始成绩!$B$3:$C$47,2,FALSE) -> 1940340114 | D23: 金融学 | E23: =VLOOKUP(B23,原始成绩!$B$3:$D$47,3,FALSE) -> 3.09
A24: 22 | B24: 程文婷 | C24: =VLOOKUP(B24,原始成绩!$B$3:$C$47,2,FALSE) -> 1940340103 | D24: 金融学 | E24: =VLOOKUP(B24,原始成绩!$B$3:$D$47,3,FALSE) -> 3.04
A25: 23 | B25: 吴仕基 | C25: =VLOOKUP(B25,原始成绩!$B$3:$C$47,2,FALSE) -> 1940340145 | D25: 金融学 | E25: =VLOOKUP(B25,原始成绩!$B$3:$D$47,3,FALSE) -> 3.04
A26: 24 | B26: 钟嘉茵 | C26: =VLOOKUP(B26,原始成绩!$B$3:$C$47,2,FALSE) -> 1940340151 | D26: 金融学 | E26: =VLOOKUP(B26,原始成绩!$B$3:$D$47,3,FALSE) -> 3.04
A27: 25 | B27: 陈文晞 | C27: =VLOOKUP(B27,原始成绩!$B$3:$C$47,2,FALSE) -> 1940325104 | D27: 金融学 | E27: =VLOOKUP(B27,原始成绩!$B$3:$D$47,3,FALSE) -> 2.97
A28: 26 | B28: 许晓楠 | C28: =VLOOKUP(B28,原始成绩!$B$3:$C$47,2,FALSE) -> 1940325132 | D28: 金融学 | E28: =VLOOKUP(B28,原始成绩!$B$3:$D$47,3,FALSE) -> 2.96
A29: 27 | B29: 黄家会 | C29: =VLOOKUP(B29,原始成绩!$B$3:$C$47,2,FALSE) -> 1940340116 | D29: 金融学 | E29: =VLOOKUP(B29,原始成绩!$B$3:$D$47,3,FALSE) -> 2.95
A30: 28 | B30: 黄晓薇 | C30: =VLOOKUP(B30,原始成绩!$B$3:$C$47,2,FALSE) -> 1940340324 | D30: 金融学 | E30: =VLOOKUP(B30,原始成绩!$B$3:$D$47,3,FALSE) -> 2.94
A31: 29 | B31: 凌铖 | C31: =VLOOKUP(B31,原始成绩!$B$3:$C$47,2,FALSE) -> 1940341333 | D31: 金融学 | E31: =VLOOKUP(B31,原始成绩!$B$3:$D$47,3,FALSE) -> 2.78

Sheet 录取结果
A1: 19经管复合型人才创新班（金融学）录取名单 | F1: 19经管复合型人才创新班（国际经济与贸易）录取名单
A2: 名次 | B2: 姓名 | C2: 学号 | D2: 绩点 | F2: 名次 | G2: 姓名 | H2: 学号 | I2: 绩点
A3: 1 | B3: 赵思懿 | C3: =VLOOKUP(B3,原始成绩!$B$3:$C$47,2,FALSE) -> 1940341449 | D3: =VLOOKUP(B3,原始成绩!$B$3:$D$47,3,FALSE) -> 3.83 | F3: 1 | G3: 厉嘉馨 | H3: =VLOOKUP(G3,原始成绩!$B$3:$C$47,2,FALSE) -> 1940341422 | I3: =VLOOKUP(G3,原始成绩!$B$3:$D$47,3,FALSE) -> 3.58
A4: 2 | B4: 文倩怡 | C4: =VLOOKUP(B4,原始成绩!$B$3:$C$47,2,FALSE) -> 1940340242 | D4: =VLOOKUP(B4,原始成绩!$B$3:$D$47,3,FALSE) -> 3.69 | F4: 2 | G4: 胡嘉欣 | H4: =VLOOKUP(G4,原始成绩!$B$3:$C$47,2,FALSE) -> 1940324109 | I4: =VLOOKUP(G4,原始成绩!$B$3:$D$47,3,FALSE) -> 3.49
A5: 3 | B5: 夏宇琛 | C5: =VLOOKUP(B5,原始成绩!$B$3:$C$47,2,FALSE) -> 1940341350 | D5: =VLOOKUP(B5,原始成绩!$B$3:$D$47,3,FALSE) -> 3.69 | F5: 3 | G5: 张嘉婷 | H5: =VLOOKUP(G5,原始成绩!$B$3:$C$47,2,FALSE) -> 1940341256 | I5: =VLOOKUP(G5,原始成绩!$B$3:$D$47,3,FALSE) -> 3.44
A6: 4 | B6: 邓洁莹 | C6: =VLOOKUP(B6,原始成绩!$B$3:$C$47,2,FALSE) -> 1940341305 | D6: =VLOOKUP(B6,原始成绩!$B$3:$D$47,3,FALSE) -> 3.51 | F6: 4 | G6: 欧海铃 | H6: =VLOOKUP(G6,原始成绩!$B$3:$C$47,2,FALSE) -> 1940324121 | I6: =VLOOKUP(G6,原始成绩!$B$3:$D$47,3,FALSE) -> 3.4
A7: 5 | B7: 吴金怡 | C7: =VLOOKUP(B7,原始成绩!$B$3:$C$47,2,FALSE) -> 1940325128 | D7: =VLOOKUP(B7,原始成绩!$B$3:$D$47,3,FALSE) -> 3.5 | F7: 5 | G7: 胡锦玉 | H7: =VLOOKUP(G7,原始成绩!$B$3:$C$47,2,FALSE) -> 1940324133 | I7: =VLOOKUP(G7,原始成绩!$B$3:$D$47,3,FALSE) -> 3.29
A8: 6 | B8: 黄昕宇 | C8: =VLOOKUP(B8,原始成绩!$B$3:$C$47,2,FALSE) -> 1940341320 | D8: =VLOOKUP(B8,原始成绩!$B$3:$D$47,3,FALSE) -> 3.5 | F8: 6 | G8: 李颖殷 | H8: =VLOOKUP(G8,原始成绩!$B$3:$C$47,2,FALSE) -> 1940341328 | I8: =VLOOKUP(G8,原始成绩!$B$3:$D$47,3,FALSE) -> 3.28
A9: 7 | B9: 林娜彤 | C9: =VLOOKUP(B9,原始成绩!$B$3:$C$47,2,FALSE) -> 1940325218 | D9: =VLOOKUP(B9,原始成绩!$B$3:$D$47,3,FALSE) -> 3.48 | F9: 7 | G9: 黄梅美 | H9: =VLOOKUP(G9,原始成绩!$B$3:$C$47,2,FALSE) -> 1940340117 | I9: =VLOOKUP(G9,原始成绩!$B$3:$D$47,3,FALSE) -> 3.15
A10: 8 | B10: 林梓瑶 | C10: =VLOOKUP(B10,原始成绩!$B$3:$C$47,2,FALSE) -> 1940341140 | D10: =VLOOKUP(B10,原始成绩!$B$3:$D$47,3,FALSE) -> 3.48 | F10: 8 | G10: 石钧杜 | H10: =VLOOKUP(G10,原始成绩!$B$3:$C$47,2,FALSE) -> 1940341240 | I10: =VLOOKUP(G10,原始成绩!$B$3:$D$47,3,FALSE) -> 3.1
A11: 9 | B11: 柯树培 | C11: =VLOOKUP(B11,原始成绩!$B$3:$C$47,2,FALSE) -> 1940340330 | D11: =VLOOKUP(B11,原始成绩!$B$3:$D$47,3,FALSE) -> 3.46 | F11: 9 | G11: 许永交 | H11: =VLOOKUP(G11,原始成绩!$B$3:$C$47,2,FALSE) -> 1940325226 | I11: =VLOOKUP(G11,原始成绩!$B$3:$D$47,3,FALSE) -> 3.09
A12: 10 | B12: 肖瑶 | C12: =VLOOKUP(B12,原始成绩!$B$3:$C$47,2,FALSE) -> 1940340343 | D12: =VLOOKUP(B12,原始成绩!$B$3:$D$47,3,FALSE) -> 3.44 | F12: 10 | G12: 林海奕 | H12: =VLOOKUP(G12,原始成绩!$B$3:$C$47,2,FALSE) -> 1940341222 | I12: =VLOOKUP(G12,原始成绩!$B$3:$D$47,3,FALSE) -> 3.04
A13: 11 | B13: 郑群芳 | C13: =VLOOKUP(B13,原始成绩!$B$3:$C$47,2,FALSE) -> 1940340353 | D13: =VLOOKUP(B13,原始成绩!$B$3:$D$47,3,FALSE) -> 3.4 | F13: 11 | G13: 张文娟 | H13: =VLOOKUP(G13,原始成绩!$B$3:$C$47,2,FALSE) -> 1940340247 | I13: =VLOOKUP(G13,原始成绩!$B$3:$D$47,3,FALSE) -> 3.01
A14: 12 | B14: 刘绮莉 | C14: =VLOOKUP(B14,原始成绩!$B$3:$C$47,2,FALSE) -> 1940325221 | D14: =VLOOKUP(B14,原始成绩!$B$3:$D$47,3,FALSE) -> 3.39 | F14: 12 | G14: 刘思婷 | H14: =VLOOKUP(G14,原始成绩!$B$3:$C$47,2,FALSE) -> 1940341335 | I14: =VLOOKUP(G14,原始成绩!$B$3:$D$47,3,FALSE) -> 2.98
... A22: 20 | B22: 张鸿祝 | C22: =VLOOKUP(B22,原始成绩!$B$3:$C$47,2,FALSE) -> 1940340349 | D22: =VLOOKUP(B22,原始成绩!$B$3:$D$47,3,FALSE) -> 3.13 | F22: 20 | G22: 郑霏菲 | H22: =VLOOKUP(G22,原始成绩!$B$3:$C$47,2,FALSE) -> 1940324137 | I22: =VLOOKUP(G22,原始成绩!$B$3:$D$47,3,FALSE) -> 2.67
A23: 21 | B23: 胡晓 | C23: =VLOOKUP(B23,原始成绩!$B$3:$C$47,2,FALSE) -> 1940340114 | D23: =VLOOKUP(B23,原始成绩!$B$3:$D$47,3,FALSE) -> 3.09
A24: 22 | B24: 程文婷 | C24: =VLOOKUP(B24,原始成绩!$B$3:$C$47,2,FALSE) -> 1940340103 | D24: =VLOOKUP(B24,原始成绩!$B$3:$D$47,3,FALSE) -> 3.04
A25: 23 | B25: 吴仕基 | C25: =VLOOKUP(B25,原始成绩!$B$3:$C$47,2,FALSE) -> 1940340145 | D25: =VLOOKUP(B25,原始成绩!$B$3:$D$47,3,FALSE) -> 3.04
A26: 24 | B26: 钟嘉茵 | C26: =VLOOKUP(B26,原始成绩!$B$3:$C$47,2,FALSE) -> 1940340151 | D26: =VLOOKUP(B26,原始成绩!$B$3:$D$47,3,FALSE) -> 3.04
A27: 25 | B27: 陈文晞 | C27: =VLOOKUP(B27,原始成绩!$B$3:$C$47,2,FALSE) -> 1940325104 | D27: =VLOOKUP(B27,原始成绩!$B$3:$D$47,3,FALSE) -> 2.97
