Workbook

Sheet 原始成绩
A1: 20经济学类学生成绩汇总
A2: 姓名 | B2: 绩点 | C2: 学号 | D2: 平均成绩（加权）
A3: 杨芷昕 | B3: 3.9 | C3: 2040341246 | D3: 88.96
A4: 胡蝶 | B4: 3.85 | C4: 2040341210 | D4: 88.49
A5: 叶颖娣 | B5: 3.77 | C5: 2040341247 | D5: 87.69
A6: 李秋红 | B6: 3.66 | C6: 2040341220 | D6: 86.58
A7: 邹彤曦 | B7: 3.85 | C7: 2040341259 | D7: 88.5
A8: 艾卓娅 | B8: 3.66 | C8: 2040341201 | D8: 86.6
A9: 邓丽文 | B9: 3.7 | C9: 2040341206 | D9: 86.96
A10: 黄慧 | B10: 3.57 | C10: 2040341212 | D10: 85.66
A11: 李颖欣 | B11: 3.3 | C11: 2040341224 | D11: 83.04
A12: 黎蓝琪 | B12: 3.53 | C12: 2040341215 | D12: 85.29
A13: 黄祈耀 | B13: 3.32 | C13: 2040341116 | D13: 83.19
A14: 麦志彬 | B14: 3.39 | C14: 2040341230 | D14: 83.92
... A106: 吴斌 | B106: 1.14 | C106: 2040341142 | D106: 55.29

Sheet 志愿汇总
A1: 第一志愿 | B1: 国际经济与贸易 | C1: 电子商务 | D1: 税收学 | F1: 第二志愿 | G1: 国际经济与贸易 | H1: 电子商务 | I1: 税收学 | J1: 第三志愿 | K1: 国际经济与贸易 | L1: 电子商务 | M1: 税收学
B2: 蔡婕 | C2: 陈钰斯 | D2: 邓建鸿 | G2: 邓建鸿 | H2: 陈铭杰 | I2: 蔡婕 | K2: 陈钰斯 | L2: 蔡婕 | M2: 陈铭杰
B3: 庄馨怡 | C3: 程钰 | D3: 丁文杰 | G3: 郭浩彬 | H3: 戴蓝馨 | I3: 庄馨怡 | K3: 程钰 | L3: 庄馨怡 | M3: 戴蓝馨
B4: 陈铭杰 | C4: 郭浩彬 | D4: 黄锦龙 | G4: 黄锦龙 | H4: 丁文杰 | I4: 陈钰斯 | K4: 丁文杰 | L4: 邓建鸿 | M4: 郭浩彬
B5: 戴蓝馨 | C5: 黄靖雯 | D5: 黄力龙 | G5: 黄靖雯 | H5: 黄康恒 | I5: 程钰 | K5: 廖晓铃 | L5: 黄锦龙 | M5: 黄靖雯
B6: 黄康恒 | C6: 梁耀韵 | D6: 蒋诗云 | G6: 黄力龙 | H6: 黄婉敏 | I6: 黄苗英 | K6: 吴斌 | L6: 黄力龙 | M6: 黄康恒
B7: 黄苗英 | C7: 廖子杰 | D7: 廖曼婷 | G7: 蒋诗云 | H7: 廖晓铃 | I7: 黄祈耀 | K7: 吴泳桦 | L7: 黄苗英 | M7: 黄婉敏
B8: 黄祈耀 | C8: 刘茂林 | D8: 廖晓铃 | G8: 梁耀韵 | H8: 王鑫 | I8: 柯艳杏 | K8: 张晓莹 | L8: 黄祈耀 | M8: 梁耀韵
B9: 黄婉敏 | C9: 潘嘉琪 | D9: 林紫娟 | G9: 廖曼婷 | H9: 吴泳桦 | I9: 李安龙 | K9: 陈彩漫 | L9: 蒋诗云 | M9: 廖子杰
B10: 柯艳杏 | C10: 吴斌 | D10: 刘瑶倩 | G10: 廖子杰 | H10: 萧睿智 | I10: 梁健敏 | K10: 陈柏源 | L10: 柯艳杏 | M10: 刘茂林
B11: 李安龙 | C11: 吴梓茵 | D11: 罗嘉祺 | G11: 林紫娟 | H11: 艾卓娅 | I11: 汤元森 | K11: 高泽培 | L11: 李安龙 | M11: 潘嘉琪
B12: 梁健敏 | C12: 杨家莹 | D12: 马莉 | G12: 刘茂林 | H12: 何依婷 | I12: 温佳琪 | K12: 何依婷 | L12: 梁健敏 | M12: 王鑫
B13: 汤元森 | C13: 袁茵 | D13: 王焯邦 | G13: 刘瑶倩 | H13: 胡蝶 | I13: 吴斌 | K13: 吴旻坤 | L13: 廖曼婷 | M13: 吴梓茵
... B16: 吴正大 | C16: 陈柏源 | D16: 吴学聪 | G16: 潘嘉琪 | H16: 宋俊豪 | I16: 曾梓慧 | K16: 张国栋 | L16: 罗嘉祺 | M16: 袁茵
B17: 萧睿智 | C17: 高泽培 | D17: 吴泳桦 | G17: 王焯邦 | H17: 王熙芃 | I17: 张晓莹 | L17: 马莉 | M17: 艾卓娅
B18: 许雅琳 | C18: 黄梽锴 | D18: 吴雨薰 | G18: 魏媛媛 | H18: 吴佳烨 | I18: 张镇秀 | L18: 汤元森 | M18: 胡蝶
B19: 曾梓慧 | C19: 黄慧 | D19: 伍跷莹 | G19: 巫立豪 | H19: 谢雨彤 | I19: 陈彩漫 | L19: 王焯邦 | M19: 黄梽锴
B20: 张镇秀 | C20: 吴旻坤 | D20: 张馨文 | G20: 吴学聪 | H20: 徐文浩 | I20: 黎浩辉 | L20: 魏媛媛 | M20: 黄慧
B21: 黎浩辉 | C21: 谢思培 | D21: 常梦泽 | G21: 吴雨薰 | I21: 黄柱伟 | L21: 温佳琪 | M21: 李坤云
B22: 黄柱伟 | C22: 张国栋 | D22: 陈靖怡 | G22: 吴梓茵 | I22: 覃芳华 | L22: 巫立豪 | M22: 李琼
B23: 艾卓娅 | C23: 张伊婷 | D23: 何依婷 | G23: 伍跷莹 | I23: 陈柏源 | L23: 吴学聪 | M23: 宋俊豪
B24: 覃芳华 | D24: 黎章权 | G24: 杨家莹 | I24: 邓丽文 | L24: 吴雨薰 | M24: 王熙芃
B25: 邓丽文 | D25: 李承忠 | G25: 袁茵 | I25: 高泽培 | L25: 吴正大 | M25: 谢思培
B26: 胡蝶 | D26: 李秋红 | G26: 张馨文 | I26: 黄楠 | L26: 伍跷莹 | M26: 谢雨彤
B27: 黄楠 | D27: 李世骜 | G27: 常梦泽 | I27: 黎蓝琪 | L27: 许雅琳 | M27: 张伊婷
B28: 黎蓝琪 | D28: 李彦锜 | G28: 陈靖怡 | I28: 刘雅莉 | L28: 曾梓慧
B29: 李坤云 | D29: 李颖欣 | G29: 黄梽锴 | I29: 罗忠玥 | L29: 张镇秀
B30: 李琼 | D30: 李沅柔 | G30: 黄慧 | I30: 谭晓琳 | L30: 张馨文
B31: 刘雅莉 | D31: 麦志彬 | G31: 黎章权 | I31: 吴旻坤 | L31: 黎浩辉
B32: 罗忠玥 | D32: 唐嘉曼 | G32: 李承忠 | I32: 吴萍萍 | L32: 黄柱伟
B33: 宋俊豪 | D33: 叶颖娣 | G33: 李秋红 | I33: 杨允乐 | L33: 覃芳华
B34: 谭晓琳 | D34: 王金阳 | G34: 李世骜 | I34: 万欣欣 | L34: 常梦泽
B35: 王熙芃 | D35: 吴佳烨 | G35: 李彦锜 | I35: 张国栋 | L35: 陈靖怡
B36: 吴萍萍 | D36: 伍雯静 | G36: 李颖欣 | I36: 蔡芸簇 | L36: 邓丽文
B37: 谢雨彤 | D37: 徐文浩 | G37: 李沅柔 | L37: 黄楠
B38: 杨允乐 | D38: 杨芷昕 | G38: 麦志彬 | L38: 黎蓝琪
B39: 万欣欣 | D39: 曾伟钊 | G39: 唐嘉曼 | L39: 黎章权
B40: 蔡芸簇 | D40: 张诗雅 | G40: 叶颖娣 | L40: 李承忠
D41: 张婕 | G41: 王金阳 | L41: 李秋红
D42: 赵原伟 | G42: 伍雯静 | L42: 李世骜
...

Sheet 录取过程
A1: 国际经济与贸易专业 | F1: 税收学专业 | K1: 电子商务专业
A2: 名次 | B2: 国际经济与贸易 | C2: 绩点 | D2: 加权平均分 | F2: 名次 | G2: 税收学 | H2: 绩点 | I2: 加权平均分 | K2: 名次 | L2: 电子商务 | M2: 绩点 | N2: 加权平均分 | P2: 第二志愿学生汇总 | Q2: 绩点 | R2: 加权平均分 | S2: 录取志愿区间 | T2: 最终录取专业 | U2: 备注
A3: 1 | B3: 胡蝶 | C3: =VLOOKUP(B3,原始成绩!$A$3:$B$106,2,FALSE) -> 3.85 | D3: =VLOOKUP(B3,原始成绩!$A$3:$D$106,4,FALSE) -> 88.49 | F3: 1 | G3: 杨芷昕 | H3: =VLOOKUP(G3,原始成绩!$A$3:$B$106,2,FALSE) -> 3.9 | I3: =VLOOKUP(G3,原始成绩!$A$3:$D$106,4,FALSE) -> 88.96 | K3: 1 | L3: 黄慧 | M3: =VLOOKUP(L3,原始成绩!$A$3:$B$106,2,FALSE) -> 3.57 | N3: =VLOOKUP(L3,原始成绩!$A$3:$D$106,4,FALSE) -> 85.66 | P3: 李世骜 | Q3: 2.6 | R3: 75.96 | S3: 第二志愿 | T3: 国际经济与贸易
A4: 2 | B4: 邓丽文 | C4: =VLOOKUP(B4,原始成绩!$A$3:$B$106,2,FALSE) -> 3.7 | D4: =VLOOKUP(B4,原始成绩!$A$3:$D$106,4,FALSE) -> 86.96 | F4: 2 | G4: 邹彤曦 | H4: =VLOOKUP(G4,原始成绩!$A$3:$B$106,2,FALSE) -> 3.85 | I4: =VLOOKUP(G4,原始成绩!$A$3:$D$106,4,FALSE) -> 88.5 | K4: 2 | L4: 陈柏源 | M4: =VLOOKUP(L4,原始成绩!$A$3:$B$106,2,FALSE) -> 3.48 | N4: =VLOOKUP(L4,原始成绩!$A$3:$D$106,4,FALSE) -> 84.8 | P4: 巫立豪 | Q4: 2.59 | R4: 74 | S4: 第二志愿 | T4: 国际经济与贸易
A5: 3 | B5: 艾卓娅 | C5: =VLOOKUP(B5,原始成绩!$A$3:$B$106,2,FALSE) -> 3.66 | D5: =VLOOKUP(B5,原始成绩!$A$3:$D$106,4,FALSE) -> 86.6 | F5: 3 | G5: 叶颖娣 | H5: =VLOOKUP(G5,原始成绩!$A$3:$B$106,2,FALSE) -> 3.77 | I5: =VLOOKUP(G5,原始成绩!$A$3:$D$106,4,FALSE) -> 87.69 | K5: 3 | L5: 袁茵 | M5: =VLOOKUP(L5,原始成绩!$A$3:$B$106,2,FALSE) -> 3.2 | N5: =VLOOKUP(L5,原始成绩!$A$3:$D$106,4,FALSE) -> 82.04 | P5: 蒋诗云 | Q5: 2.42 | R5: 74.93 | S5: 第二志愿 | T5: 国际经济与贸易
A6: 4 | B6: 黎蓝琪 | C6: =VLOOKUP(B6,原始成绩!$A$3:$B$106,2,FALSE) -> 3.53 | D6: =VLOOKUP(B6,原始成绩!$A$3:$D$106,4,FALSE) -> 85.29 | F6: 4 | G6: 李秋红 | H6: =VLOOKUP(G6,原始成绩!$A$3:$B$106,2,FALSE) -> 3.66 | I6: =VLOOKUP(G6,原始成绩!$A$3:$D$106,4,FALSE) -> 86.58 | K6: 4 | L6: 谢思培 | M6: =VLOOKUP(L6,原始成绩!$A$3:$B$106,2,FALSE) -> 3.17 | N6: =VLOOKUP(L6,原始成绩!$A$3:$D$106,4,FALSE) -> 81.65 | P6: 吴佳烨 | Q6: 2.4 | R6: 74 | S6: 第二志愿 | T6: 电子商务
A7: 5 | B7: 汤元森 | C7: =VLOOKUP(B7,原始成绩!$A$3:$B$106,2,FALSE) -> 3.39 | D7: =VLOOKUP(B7,原始成绩!$A$3:$D$106,4,FALSE) -> 83.88 | F7: 5 | G7: 麦志彬 | H7: =VLOOKUP(G7,原始成绩!$A$3:$B$106,2,FALSE) -> 3.39 | I7: =VLOOKUP(G7,原始成绩!$A$3:$D$106,4,FALSE) -> 83.92 | K7: 5 | L7: 张伊婷 | M7: =VLOOKUP(L7,原始成绩!$A$3:$B$106,2,FALSE) -> 2.94 | N7: =VLOOKUP(L7,原始成绩!$A$3:$D$106,4,FALSE) -> 79.43 | P7: 黄锦龙 | Q7: 2.38 | R7: 72.2 | S7: 第二志愿 | T7: 国际经济与贸易
A8: 6 | B8: 黄祈耀 | C8: =VLOOKUP(B8,原始成绩!$A$3:$B$106,2,FALSE) -> 3.32 | D8: =VLOOKUP(B8,原始成绩!$A$3:$D$106,4,FALSE) -> 83.19 | F8: 6 | G8: 王焯邦 | H8: =VLOOKUP(G8,原始成绩!$A$3:$B$106,2,FALSE) -> 3.37 | I8: =VLOOKUP(G8,原始成绩!$A$3:$D$106,4,FALSE) -> 83.66 | K8: 6 | L8: 张国栋 | M8: =VLOOKUP(L8,原始成绩!$A$3:$B$106,2,FALSE) -> 2.91 | N8: =VLOOKUP(L8,原始成绩!$A$3:$D$106,4,FALSE) -> 79.15 | P8: 马莉 | Q8: 2.35 | R8: 73.5 | S8: 第二志愿 | T8: 国际经济与贸易 | U8: 绩点相同按加权平均分排序
A9: 7 | B9: 刘雅莉 | C9: =VLOOKUP(B9,原始成绩!$A$3:$B$106,2,FALSE) -> 3.28 | D9: =VLOOKUP(B9,原始成绩!$A$3:$D$106,4,FALSE) -> 82.77 | F9: 7 | G9: 丁文杰 | H9: =VLOOKUP(G9,原始成绩!$A$3:$B$106,2,FALSE) -> 3.33 | I9: =VLOOKUP(G9,原始成绩!$A$3:$D$106,4,FALSE) -> 83.35 | K9: 7 | L9: 梁耀韵 | M9: =VLOOKUP(L9,原始成绩!$A$3:$B$106,2,FALSE) -> 2.85 | N9: =VLOOKUP(L9,原始成绩!$A$3:$D$106,4,FALSE) -> 78.48 | P9: 罗嘉祺 | Q9: 2.35 | R9: 73.47 | S9: 第三志愿 | T9: 电子商务
A10: 8 | B10: 蔡婕 | C10: =VLOOKUP(B10,原始成绩!$A$3:$B$106,2,FALSE) -> 3.18 | D10: =VLOOKUP(B10,原始成绩!$A$3:$D$106,4,FALSE) -> 81.76 | F10: 8 | G10: 黎章权 | H10: =VLOOKUP(G10,原始成绩!$A$3:$B$106,2,FALSE) -> 3.32 | I10: =VLOOKUP(G10,原始成绩!$A$3:$D$106,4,FALSE) -> 83.15 | K10: 8 | L10: 高泽培 | M10: =VLOOKUP(L10,原始成绩!$A$3:$B$106,2,FALSE) -> 2.83 | N10: =VLOOKUP(L10,原始成绩!$A$3:$D$106,4,FALSE) -> 78.26 | P10: 黄力龙 | Q10: 2.32 | R10: 72.9 | S10: 第三志愿 | T10: 电子商务
A11: 9 | B11: 杨允乐 | C11: =VLOOKUP(B11,原始成绩!$A$3:$B$106,2,FALSE) -> 3.05 | D11: =VLOOKUP(B11,原始成绩!$A$3:$D$106,4,FALSE) -> 80.53 | F11: 9 | G11: 伍雯静 | H11: =VLOOKUP(G11,原始成绩!$A$3:$B$106,2,FALSE) -> 3.31 | I11: =VLOOKUP(G11,原始成绩!$A$3:$D$106,4,FALSE) -> 83.06 | K11: 9 | L11: 吴梓茵 | M11: =VLOOKUP(L11,原始成绩!$A$3:$B$106,2,FALSE) -> 2.74 | N11: =VLOOKUP(L11,原始成绩!$A$3:$D$106,4,FALSE) -> 77.41 | P11: 吴学聪 | Q11: 2.28 | R11: 71.67 | S11: 第三志愿 | T11: 电子商务
A12: 10 | B12: 许雅琳 | C12: =VLOOKUP(B12,原始成绩!$A$3:$B$106,2,FALSE) -> 3.04 | D12: =VLOOKUP(B12,原始成绩!$A$3:$D$106,4,FALSE) -> 80.4 | F12: 10 | G12: 李颖欣 | H12: =VLOOKUP(G12,原始成绩!$A$3:$B$106,2,FALSE) -> 3.3 | I12: =VLOOKUP(G12,原始成绩!$A$3:$D$106,4,FALSE) -> 83.04 | K12: 10 | L12: 杨家莹 | M12: =VLOOKUP(L12,原始成绩!$A$3:$B$106,2,FALSE) -> 2.66 | N12: =VLOOKUP(L12,原始成绩!$A$3:$D$106,4,FALSE) -> 76.64 | P12: 刘瑶倩 | Q12: 2.22 | R12: 71.17 | S12: 第三志愿 | T12: 电子商务
A13: 11 | B13: 梁健敏 | C13: =VLOOKUP(B13,原始成绩!$A$3:$B$106,2,FALSE) -> 2.99 | D13: =VLOOKUP(B13,原始成绩!$A$3:$D$106,4,FALSE) -> 79.88 | F13: 11 | G13: 周咏仪 | H13: =VLOOKUP(G13,原始成绩!$A$3:$B$106,2,FALSE) -> 3.26 | I13: =VLOOKUP(G13,原始成绩!$A$3:$D$106,4,FALSE) -> 82.65 | K13: 11 | L13: 程钰 | M13: =VLOOKUP(L13,原始成绩!$A$3:$B$106,2,FALSE) -> 2.58 | N13: =VLOOKUP(L13,原始成绩!$A$3:$D$106,4,FALSE) -> 75.76 | P13: 常梦泽 | Q13: 2.19 | R13: 70.66 | S13: 第三志愿 | T13: 电子商务
A14: 12 | B14: 吴萍萍 | C14: =VLOOKUP(B14,原始成绩!$A$3:$B$106,2,FALSE) -> 2.74 | D14: =VLOOKUP(B14,原始成绩!$A$3:$D$106,4,FALSE) -> 77.38 | F14: 12 | G14: 唐嘉曼 | H14: =VLOOKUP(G14,原始成绩!$A$3:$B$106,2,FALSE) -> 3.2 | I14: =VLOOKUP(G14,原始成绩!$A$3:$D$106,4,FALSE) -> 82.02 | K14: 12 | L14: 黄梽锴 | M14: =VLOOKUP(L14,原始成绩!$A$3:$B$106,2,FALSE) -> 2.52 | N14: =VLOOKUP(L14,原始成绩!$A$3:$D$106,4,FALSE) -> 74.26 | P14: 徐文浩 | Q14: 2.08 | R14: 71.82 | S14: 第二志愿 | T14: 电子商务
A15: 13 | B15: 李安龙 | C15: =VLOOKUP(B15,原始成绩!$A$3:$B$106,2,FALSE) -> 2.7 | D15: =VLOOKUP(B15,原始成绩!$A$3:$D$106,4,FALSE) -> 77.03 | F15: 13 | G15: 吴泳桦 | H15: =VLOOKUP(G15,原始成绩!$A$3:$B$106,2,FALSE) -> 3.19 | I15: =VLOOKUP(G15,原始成绩!$A$3:$D$106,4,FALSE) -> 81.94 | K15: 13 | L15: 陈彩漫 | M15: =VLOOKUP(L15,原始成绩!$A$3:$B$106,2,FALSE) -> 2.49 | N15: =VLOOKUP(L15,原始成绩!$A$3:$D$106,4,FALSE) -> 73.32 | P15: 曾伟钊 | Q15: 1.98 | R15: 68.7 | S15: 第三志愿 | T15: 电子商务
A16: 14 | B16: 黄楠 | C16: =VLOOKUP(B16,原始成绩!$A$3:$B$106,2,FALSE) -> 2.65 | D16: =VLOOKUP(B16,原始成绩!$A$3:$D$106,4,FALSE) -> 76.5 | F16: 14 | G16: 张诗雅 | H16: =VLOOKUP(G16,原始成绩!$A$3:$B$106,2,FALSE) -> 3.18 | I16: =VLOOKUP(G16,原始成绩!$A$3:$D$106,4,FALSE) -> 81.79 | K16: 14 | L16: 廖子杰 | M16: =VLOOKUP(L16,原始成绩!$A$3:$B$106,2,FALSE) -> 2.35 | N16: =VLOOKUP(L16,原始成绩!$A$3:$D$106,4,FALSE) -> 73.47
A17: 15 | B17: 李坤云 | C17: =VLOOKUP(B17,原始成绩!$A$3:$B$106,2,FALSE) -> 2.65 | D17: =VLOOKUP(B17,原始成绩!$A$3:$D$106,4,FALSE) -> 76.53 | F17: 15 | G17: 李承忠 | H17: =VLOOKUP(G17,原始成绩!$A$3:$B$106,2,FALSE) -> 3.13 | I17: =VLOOKUP(G17,原始成绩!$A$3:$D$106,4,FALSE) -> 81.27 | K17: 15 | L17: 郭浩彬 | M17: =VLOOKUP(L17,原始成绩!$A$3:$B$106,2,FALSE) -> 2.25 | N17: =VLOOKUP(L17,原始成绩!$A$3:$D$106,4,FALSE) -> 69.5
A18: 16 | B18: 王鑫 | C18: =VLOOKUP(B18,原始成绩!$A$3:$B$106,2,FALSE) -> 2.64 | D18: =VLOOKUP(B18,原始成绩!$A$3:$D$106,4,FALSE) -> 76.4 | F18: 16 | G18: 廖曼婷 | H18: =VLOOKUP(G18,原始成绩!$A$3:$B$106,2,FALSE) -> 3.1 | I18: =VLOOKUP(G18,原始成绩!$A$3:$D$106,4,FALSE) -> 81.04 | K18: 16 | L18: 潘嘉琪 | M18: =VLOOKUP(L18,原始成绩!$A$3:$B$106,2,FALSE) -> 2.08 | N18: =VLOOKUP(L18,原始成绩!$A$3:$D$106,4,FALSE) -> 70.97
A19: 17 | B19: 黄苗英 | C19: =VLOOKUP(B19,原始成绩!$A$3:$B$106,2,FALSE) -> 2.62 | D19: =VLOOKUP(B19,原始成绩!$A$3:$D$106,4,FALSE) -> 76.81 | F19: 17 | G19: 林紫娟 | H19: =VLOOKUP(G19,原始成绩!$A$3:$B$106,2,FALSE) -> 3.05 | I19: =VLOOKUP(G19,原始成绩!$A$3:$D$106,4,FALSE) -> 80.48 | K19: 17 | L19: 陈钰斯 | M19: =VLOOKUP(L19,原始成绩!$A$3:$B$106,2,FALSE) -> 1.92 | N19: =VLOOKUP(L19,原始成绩!$A$3:$D$106,4,FALSE) -> 67.24
A20: 18 | B20: 谭晓琳 | C20: =VLOOKUP(B20,原始成绩!$A$3:$B$106,2,FALSE) -> 2.61 | D20: =VLOOKUP(B20,原始成绩!$A$3:$D$106,4,FALSE) -> 76.14 | F20: 18 | G20: 廖晓铃 | H20: =VLOOKUP(G20,原始成绩!$A$3:$B$106,2,FALSE) -> 3.04 | I20: =VLOOKUP(G20,原始成绩!$A$3:$D$106,4,FALSE) -> 80.41 | K20: 18 | L20: 刘茂林 | M20: =VLOOKUP(L20,原始成绩!$A$3:$B$106,2,FALSE) -> 1.91 | N20: =VLOOKUP(L20,原始成绩!$A$3:$D$106,4,FALSE) -> 69.09
A21: 19 | B21: 柯艳杏 | C21: =VLOOKUP(B21,原始成绩!$A$3:$B$106,2,FALSE) -> 2.58 | D21: =VLOOKUP(B21,原始成绩!$A$3:$D$106,4,FALSE) -> 75.82 | F21: 19 | G21: 吴雨薰 | H21: =VLOOKUP(G21,原始成绩!$A$3:$B$106,2,FALSE) -> 3.01 | I21: =VLOOKUP(G21,原始成绩!$A$3:$D$106,4,FALSE) -> 80.07 | K21: 19 | L21: 黄靖雯 | M21: =VLOOKUP(L21,原始成绩!$A$3:$B$106,2,FALSE) -> 1.85 | N21: =VLOOKUP(L21,原始成绩!$A$3:$D$106,4,FALSE) -> 66.79
A22: 20 | B22: 覃芳华 | C22: =VLOOKUP(B22,原始成绩!$A$3:$B$106,2,FALSE) -> 2.55 | D22: =VLOOKUP(B22,原始成绩!$A$3:$D$106,4,FALSE) -> 75.84 | F22: 20 | G22: 魏媛媛 | H22: =VLOOKUP(G22,原始成绩!$A$3:$B$106,2,FALSE) -> 3 | I22: =VLOOKUP(G22,原始成绩!$A$3:$D$106,4,FALSE) -> 80.02 | K22: 20 | L22: 张晓莹 | M22: =VLOOKUP(L22,原始成绩!$A$3:$B$106,2,FALSE) -> 1.8 | N22: =VLOOKUP(L22,原始成绩!$A$3:$D$106,4,FALSE) -> 66.99
A23: 21 | B23: 戴蓝馨 | C23: =VLOOKUP(B23,原始成绩!$A$3:$B$106,2,FALSE) -> 2.51 | D23: =VLOOKUP(B23,原始成绩!$A$3:$D$106,4,FALSE) -> 75.86 | F23: 21 | G23: 张馨文 | H23: =VLOOKUP(G23,原始成绩!$A$3:$B$106,2,FALSE) -> 3 | I23: =VLOOKUP(G23,原始成绩!$A$3:$D$106,4,FALSE) -> 80.04 | K23: 21 | L23: 吴旻坤 | M23: =VLOOKUP(L23,原始成绩!$A$3:$B$106,2,FALSE) -> 1.75 | N23: =VLOOKUP(L23,原始成绩!$A$3:$D$106,4,FALSE) -> 65.72
A24: 22 | B24: 罗忠玥 | C24: =VLOOKUP(B24,原始成绩!$A$3:$B$106,2,FALSE) -> 2.44 | D24: =VLOOKUP(B24,原始成绩!$A$3:$D$106,4,FALSE) -> 74.28 | F24: 22 | G24: 李彦锜 | H24: =VLOOKUP(G24,原始成绩!$A$3:$B$106,2,FALSE) -> 2.98 | I24: =VLOOKUP(G24,原始成绩!$A$3:$D$106,4,FALSE) -> 79.75 | K24: 22 | L24: 吴斌 | M24: =VLOOKUP(L24,原始成绩!$A$3:$B$106,2,FALSE) -> 1.14 | N24: =VLOOKUP(L24,原始成绩!$A$3:$D$106,4,FALSE) -> 55.29
A25: 23 | B25: 黄柱伟 | C25: =VLOOKUP(B25,原始成绩!$A$3:$B$106,2,FALSE) -> 2.43 | D25: =VLOOKUP(B25,原始成绩!$A$3:$D$106,4,FALSE) -> 74.26 | F25: 23 | G25: 伍跷莹 | H25: =VLOOKUP(G25,原始成绩!$A$3:$B$106,2,FALSE) -> 2.85 | I25: =VLOOKUP(G25,原始成绩!$A$3:$D$106,4,FALSE) -> 78.46 | K25: 23 | L25: 吴佳烨（2） | M25: 调剂
A26: 24 | B26: 庄馨怡 | C26: =VLOOKUP(B26,原始成绩!$A$3:$B$106,2,FALSE) -> 2.37 | D26: =VLOOKUP(B26,原始成绩!$A$3:$D$106,4,FALSE) -> 73.68 | F26: 24 | G26: 张婕 | H26: =VLOOKUP(G26,原始成绩!$A$3:$B$106,2,FALSE) -> 2.85 | I26: =VLOOKUP(G26,原始成绩!$A$3:$D$106,4,FALSE) -> 78.47 | K26: 24 | L26: 罗嘉祺（3）
A27: 25 | B27: 张镇秀 | C27: =VLOOKUP(B27,原始成绩!$A$3:$B$106,2,FALSE) -> 2.37 | D27: =VLOOKUP(B27,原始成绩!$A$3:$D$106,4,FALSE) -> 72.87 | F27: 25 | G27: 李沅柔 | H27: =VLOOKUP(G27,原始成绩!$A$3:$B$106,2,FALSE) -> 2.84 | I27: =VLOOKUP(G27,原始成绩!$A$3:$D$106,4,FALSE) -> 78.43 | K27: 25 | L27: 黄力龙（3）
A28: 26 | B28: 吴正大 | C28: =VLOOKUP(B28,原始成绩!$A$3:$B$106,2,FALSE) -> 2.33 | D28: =VLOOKUP(B28,原始成绩!$A$3:$D$106,4,FALSE) -> 73.27 | F28: 26 | G28: 陈靖怡 | H28: =VLOOKUP(G28,原始成绩!$A$3:$B$106,2,FALSE) -> 2.83 | I28: =VLOOKUP(G28,原始成绩!$A$3:$D$106,4,FALSE) -> 78.29 | K28: 26 | L28: 吴学聪（3）
A29: 27 | B29: 黄婉敏 | C29: =VLOOKUP(B29,原始成绩!$A$3:$B$106,2,FALSE) -> 2.28 | D29: =VLOOKUP(B29,原始成绩!$A$3:$D$106,4,FALSE) -> 72.77 | F29: 27 | G29: 何依婷 | H29: =VLOOKUP(G29,原始成绩!$A$3:$B$106,2,FALSE) -> 2.8 | I29: =VLOOKUP(G29,原始成绩!$A$3:$D$106,4,FALSE) -> 78.04 | K29: 27 | L29: 刘瑶倩（3）
A30: 28 | B30: 王熙芃 | C30: =VLOOKUP(B30,原始成绩!$A$3:$B$106,2,FALSE) -> 2.21 | D30: =VLOOKUP(B30,原始成绩!$A$3:$D$106,4,FALSE) -> 72.3 | F30: 28 | G30: 王金阳 | H30: =VLOOKUP(G30,原始成绩!$A$3:$B$106,2,FALSE) -> 2.8 | I30: =VLOOKUP(G30,原始成绩!$A$3:$D$106,4,FALSE) -> 77.98 | K30: 28 | L30: 常梦泽（3）
A31: 29 | B31: 谢雨彤 | C31: =VLOOKUP(B31,原始成绩!$A$3:$B$106,2,FALSE) -> 2.21 | D31: =VLOOKUP(B31,原始成绩!$A$3:$D$106,4,FALSE) -> 72.12 | F31: 29 | G31: 赵原伟 | H31: =VLOOKUP(G31,原始成绩!$A$3:$B$106,2,FALSE) -> 2.8 | I31: =VLOOKUP(G31,原始成绩!$A$3:$D$106,4,FALSE) -> 78.02 | K31: 29 | L31: 徐文浩（2）
A32: 30 | B32: 曾梓慧 | C32: =VLOOKUP(B32,原始成绩!$A$3:$B$106,2,FALSE) -> 2.2 | D32: =VLOOKUP(B32,原始成绩!$A$3:$D$106,4,FALSE) -> 71.96 | F32: 30 | G32: 邓建鸿 | H32: =VLOOKUP(G32,原始成绩!$A$3:$B$106,2,FALSE) -> 2.63 | I32: =VLOOKUP(G32,原始成绩!$A$3:$D$106,4,FALSE) -> 76.26 | K32: 30 | L32: 曾伟钊（3）
A33: 31 | B33: 万欣欣 | C33: =VLOOKUP(B33,原始成绩!$A$3:$B$106,2,FALSE) -> 2.19 | D33: =VLOOKUP(B33,原始成绩!$A$3:$D$106,4,FALSE) -> 71.98 | F33: 31 | G33: 李世骜 | H33: =VLOOKUP(G33,原始成绩!$A$3:$B$106,2,FALSE) -> 2.6 | I33: =VLOOKUP(G33,原始成绩!$A$3:$D$106,4,FALSE) -> 75.96
A34: 32 | B34: 温佳琪 | C34: =VLOOKUP(B34,原始成绩!$A$3:$B$106,2,FALSE) -> 2.18 | D34: =VLOOKUP(B34,原始成绩!$A$3:$D$106,4,FALSE) -> 69.43 | F34: 32 | G34: 巫立豪 | H34: =VLOOKUP(G34,原始成绩!$A$3:$B$106,2,FALSE) -> 2.59 | I34: =VLOOKUP(G34,原始成绩!$A$3:$D$106,4,FALSE) -> 74
A35: 33 | B35: 宋俊豪 | C35: =VLOOKUP(B35,原始成绩!$A$3:$B$106,2,FALSE) -> 2.01 | D35: =VLOOKUP(B35,原始成绩!$A$3:$D$106,4,FALSE) -> 69.31 | F35: 33 | G35: 蒋诗云 | H35: =VLOOKUP(G35,原始成绩!$A$3:$B$106,2,FALSE) -> 2.42 | I35: =VLOOKUP(G35,原始成绩!$A$3:$D$106,4,FALSE) -> 74.93
A36: 34 | B36: 黎浩辉 | C36: =VLOOKUP(B36,原始成绩!$A$3:$B$106,2,FALSE) -> 2 | D36: =VLOOKUP(B36,原始成绩!$A$3:$D$106,4,FALSE) -> 70 | F36: 34 | G36: 吴佳烨 | H36: =VLOOKUP(G36,原始成绩!$A$3:$B$106,2,FALSE) -> 2.4 | I36: =VLOOKUP(G36,原始成绩!$A$3:$D$106,4,FALSE) -> 74
A37: 35 | B37: 陈铭杰 | C37: =VLOOKUP(B37,原始成绩!$A$3:$B$106,2,FALSE) -> 1.99 | D37: =VLOOKUP(B37,原始成绩!$A$3:$D$106,4,FALSE) -> 69.17 | F37: 35 | G37: 黄锦龙 | H37: =VLOOKUP(G37,原始成绩!$A$3:$B$106,2,FALSE) -> 2.38 | I37: =VLOOKUP(G37,原始成绩!$A$3:$D$106,4,FALSE) -> 72.2
A38: 36 | B38: 李琼 | C38: =VLOOKUP(B38,原始成绩!$A$3:$B$106,2,FALSE) -> 1.77 | D38: =VLOOKUP(B38,原始成绩!$A$3:$D$106,4,FALSE) -> 66.39 | F38: 36 | G38: 罗嘉祺 | H38: =VLOOKUP(G38,原始成绩!$A$3:$B$106,2,FALSE) -> 2.35 | I38: =VLOOKUP(G38,原始成绩!$A$3:$D$106,4,FALSE) -> 73.47
A39: 37 | B39: 萧睿智 | C39: =VLOOKUP(B39,原始成绩!$A$3:$B$106,2,FALSE) -> 1.75 | D39: =VLOOKUP(B39,原始成绩!$A$3:$D$106,4,FALSE) -> 64.84 | F39: 37 | G39: 马莉 | H39: =VLOOKUP(G39,原始成绩!$A$3:$B$106,2,FALSE) -> 2.35 | I39: =VLOOKUP(G39,原始成绩!$A$3:$D$106,4,FALSE) -> 73.5
A40: 38 | B40: 黄康恒 | C40: =VLOOKUP(B40,原始成绩!$A$3:$B$106,2,FALSE) -> 1.68 | D40: =VLOOKUP(B40,原始成绩!$A$3:$D$106,4,FALSE) -> 65.33 | F40: 38 | G40: 黄力龙 | H40: =VLOOKUP(G40,原始成绩!$A$3:$B$106,2,FALSE) -> 2.32 | I40: =VLOOKUP(G40,原始成绩!$A$3:$D$106,4,FALSE) -> 72.9
...

Sheet 录取结果
A1: 20国际经济与贸易（44人） | F1: 20税收学（30人） | K1: 20电子商务（30人）
A2: 名次 | B2: 姓名 | C2: 学号 | D2: 绩点 | F2: 名次 | G2: 姓名 | H2: 学号 | I2: 绩点 | K2: 名次 | L2: 姓名 | M2: 学号 | N2: 绩点
A3: 1 | B3: 胡蝶 | C3: =VLOOKUP(B3,原始成绩!$A$3:$C$106,3,FALSE) -> 2040341210 | D3: =VLOOKUP(B3,原始成绩!$A$3:$B$106,2,FALSE) -> 3.85 | F3: 1 | G3: 杨芷昕 | H3: =VLOOKUP(G3,原始成绩!$A$3:$C$106,3,FALSE) -> 2040341246 | I3: =VLOOKUP(G3,原始成绩!$A$3:$B$106,2,FALSE) -> 3.9 | K3: 1 | L3: 黄慧 | M3: =VLOOKUP(L3,原始成绩!$A$3:$C$106,3,FALSE) -> 2040341212 | N3: =VLOOKUP(L3,原始成绩!$A$3:$B$106,2,FALSE) -> 3.57
A4: 2 | B4: 邓丽文 | C4: =VLOOKUP(B4,原始成绩!$A$3:$C$106,3,FALSE) -> 2040341206 | D4: =VLOOKUP(B4,原始成绩!$A$3:$B$106,2,FALSE) -> 3.7 | F4: 2 | G4: 邹彤曦 | H4: =VLOOKUP(G4,原始成绩!$A$3:$C$106,3,FALSE) -> 2040341259 | I4: =VLOOKUP(G4,原始成绩!$A$3:$B$106,2,FALSE) -> 3.85 | K4: 2 | L4: 陈柏源 | M4: =VLOOKUP(L4,原始成绩!$A$3:$C$106,3,FALSE) -> 2040341204 | N4: =VLOOKUP(L4,原始成绩!$A$3:$B$106,2,FALSE) -> 3.48
A5: 3 | B5: 艾卓娅 | C5: =VLOOKUP(B5,原始成绩!$A$3:$C$106,3,FALSE) -> 2040341201 | D5: =VLOOKUP(B5,原始成绩!$A$3:$B$106,2,FALSE) -> 3.66 | F5: 3 | G5: 叶颖娣 | H5: =VLOOKUP(G5,原始成绩!$A$3:$C$106,3,FALSE) -> 2040341247 | I5: =VLOOKUP(G5,原始成绩!$A$3:$B$106,2,FALSE) -> 3.77 | K5: 3 | L5: 袁茵 | M5: =VLOOKUP(L5,原始成绩!$A$3:$C$106,3,FALSE) -> 2040341153 | N5: =VLOOKUP(L5,原始成绩!$A$3:$B$106,2,FALSE) -> 3.2
A6: 4 | B6: 黎蓝琪 | C6: =VLOOKUP(B6,原始成绩!$A$3:$C$106,3,FALSE) -> 2040341215 | D6: =VLOOKUP(B6,原始成绩!$A$3:$B$106,2,FALSE) -> 3.53 | F6: 4 | G6: 李秋红 | H6: =VLOOKUP(G6,原始成绩!$A$3:$C$106,3,FALSE) -> 2040341220 | I6: =VLOOKUP(G6,原始成绩!$A$3:$B$106,2,FALSE) -> 3.66 | K6: 4 | L6: 谢思培 | M6: =VLOOKUP(L6,原始成绩!$A$3:$C$106,3,FALSE) -> 2040341242 | N6: =VLOOKUP(L6,原始成绩!$A$3:$B$106,2,FALSE) -> 3.17
A7: 5 | B7: 汤元森 | C7: =VLOOKUP(B7,原始成绩!$A$3:$C$106,3,FALSE) -> 2040341136 | D7: =VLOOKUP(B7,原始成绩!$A$3:$B$106,2,FALSE) -> 3.39 | F7: 5 | G7: 麦志彬 | H7: =VLOOKUP(G7,原始成绩!$A$3:$C$106,3,FALSE) -> 2040341230 | I7: =VLOOKUP(G7,原始成绩!$A$3:$B$106,2,FALSE) -> 3.39 | K7: 5 | L7: 张伊婷 | M7: =VLOOKUP(L7,原始成绩!$A$3:$C$106,3,FALSE) -> 2040341253 | N7: =VLOOKUP(L7,原始成绩!$A$3:$B$106,2,FALSE) -> 2.94
A8: 6 | B8: 黄祈耀 | C8: =VLOOKUP(B8,原始成绩!$A$3:$C$106,3,FALSE) -> 2040341116 | D8: =VLOOKUP(B8,原始成绩!$A$3:$B$106,2,FALSE) -> 3.32 | F8: 6 | G8: 王焯邦 | H8: =VLOOKUP(G8,原始成绩!$A$3:$C$106,3,FALSE) -> 2040341137 | I8: =VLOOKUP(G8,原始成绩!$A$3:$B$106,2,FALSE) -> 3.37 | K8: 6 | L8: 张国栋 | M8: =VLOOKUP(L8,原始成绩!$A$3:$C$106,3,FALSE) -> 2040341250 | N8: =VLOOKUP(L8,原始成绩!$A$3:$B$106,2,FALSE) -> 2.91
A9: 7 | B9: 刘雅莉 | C9: =VLOOKUP(B9,原始成绩!$A$3:$C$106,3,FALSE) -> 2040341226 | D9: =VLOOKUP(B9,原始成绩!$A$3:$B$106,2,FALSE) -> 3.28 | F9: 7 | G9: 丁文杰 | H9: =VLOOKUP(G9,原始成绩!$A$3:$C$106,3,FALSE) -> 2040341108 | I9: =VLOOKUP(G9,原始成绩!$A$3:$B$106,2,FALSE) -> 3.33 | K9: 7 | L9: 梁耀韵 | M9: =VLOOKUP(L9,原始成绩!$A$3:$C$106,3,FALSE) -> 2040341124 | N9: =VLOOKUP(L9,原始成绩!$A$3:$B$106,2,FALSE) -> 2.85
A10: 8 | B10: 蔡婕 | C10: =VLOOKUP(B10,原始成绩!$A$3:$C$106,3,FALSE) -> 2040341101 | D10: =VLOOKUP(B10,原始成绩!$A$3:$B$106,2,FALSE) -> 3.18 | F10: 8 | G10: 黎章权 | H10: =VLOOKUP(G10,原始成绩!$A$3:$C$106,3,FALSE) -> 2040341216 | I10: =VLOOKUP(G10,原始成绩!$A$3:$B$106,2,FALSE) -> 3.32 | K10: 8 | L10: 高泽培 | M10: =VLOOKUP(L10,原始成绩!$A$3:$C$106,3,FALSE) -> 2040341208 | N10: =VLOOKUP(L10,原始成绩!$A$3:$B$106,2,FALSE) -> 2.83
A11: 9 | B11: 杨允乐 | C11: =VLOOKUP(B11,原始成绩!$A$3:$C$106,3,FALSE) -> 2040341245 | D11: =VLOOKUP(B11,原始成绩!$A$3:$B$106,2,FALSE) -> 3.05 | F11: 9 | G11: 伍雯静 | H11: =VLOOKUP(G11,原始成绩!$A$3:$C$106,3,FALSE) -> 2040341240 | I11: =VLOOKUP(G11,原始成绩!$A$3:$B$106,2,FALSE) -> 3.31 | K11: 9 | L11: 吴梓茵 | M11: =VLOOKUP(L11,原始成绩!$A$3:$C$106,3,FALSE) -> 2040341148 | N11: =VLOOKUP(L11,原始成绩!$A$3:$B$106,2,FALSE) -> 2.74
A12: 10 | B12: 许雅琳 | C12: =VLOOKUP(B12,原始成绩!$A$3:$C$106,3,FALSE) -> 2040341151 | D12: =VLOOKUP(B12,原始成绩!$A$3:$B$106,2,FALSE) -> 3.04 | F12: 10 | G12: 李颖欣 | H12: =VLOOKUP(G12,原始成绩!$A$3:$C$106,3,FALSE) -> 2040341224 | I12: =VLOOKUP(G12,原始成绩!$A$3:$B$106,2,FALSE) -> 3.3 | K12: 10 | L12: 杨家莹 | M12: =VLOOKUP(L12,原始成绩!$A$3:$C$106,3,FALSE) -> 2040341152 | N12: =VLOOKUP(L12,原始成绩!$A$3:$B$106,2,FALSE) -> 2.66
A13: 11 | B13: 梁健敏 | C13: =VLOOKUP(B13,原始成绩!$A$3:$C$106,3,FALSE) -> 2040341122 | D13: =VLOOKUP(B13,原始成绩!$A$3:$B$106,2,FALSE) -> 2.99 | F13: 11 | G13: 周咏仪 | H13: =VLOOKUP(G13,原始成绩!$A$3:$C$106,3,FALSE) -> 2040341257 | I13: =VLOOKUP(G13,原始成绩!$A$3:$B$106,2,FALSE) -> 3.26 | K13: 11 | L13: 程钰 | M13: =VLOOKUP(L13,原始成绩!$A$3:$C$106,3,FALSE) -> 2040341105 | N13: =VLOOKUP(L13,原始成绩!$A$3:$B$106,2,FALSE) -> 2.58
A14: 12 | B14: 吴萍萍 | C14: =VLOOKUP(B14,原始成绩!$A$3:$C$106,3,FALSE) -> 2040341239 | D14: =VLOOKUP(B14,原始成绩!$A$3:$B$106,2,FALSE) -> 2.74 | F14: 12 | G14: 唐嘉曼 | H14: =VLOOKUP(G14,原始成绩!$A$3:$C$106,3,FALSE) -> 2040341233 | I14: =VLOOKUP(G14,原始成绩!$A$3:$B$106,2,FALSE) -> 3.2 | K14: 12 | L14: 黄梽锴 | M14: =VLOOKUP(L14,原始成绩!$A$3:$C$106,3,FALSE) -> 2040341211 | N14: =VLOOKUP(L14,原始成绩!$A$3:$B$106,2,FALSE) -> 2.52
... A32: 30 | B32: 马莉 | C32: =VLOOKUP(B32,原始成绩!$A$3:$C$106,3,FALSE) -> 2040341134 | D32: =VLOOKUP(B32,原始成绩!$A$3:$B$106,2,FALSE) -> 2.35 | F32: 30 | G32: 邓建鸿 | H32: =VLOOKUP(G32,原始成绩!$A$3:$C$106,3,FALSE) -> 2040341107 | I32: =VLOOKUP(G32,原始成绩!$A$3:$B$106,2,FALSE) -> 2.63 | K32: 30 | L32: 吴斌 | M32: =VLOOKUP(L32,原始成绩!$A$3:$C$106,3,FALSE) -> 2040341142 | N32: =VLOOKUP(L32,原始成绩!$A$3:$B$106,2,FALSE) -> 1.14
A33: 31 | B33: 吴正大 | C33: =VLOOKUP(B33,原始成绩!$A$3:$C$106,3,FALSE) -> 2040341147 | D33: =VLOOKUP(B33,原始成绩!$A$3:$B$106,2,FALSE) -> 2.33
A34: 32 | B34: 黄婉敏 | C34: =VLOOKUP(B34,原始成绩!$A$3:$C$106,3,FALSE) -> 2040341117 | D34: =VLOOKUP(B34,原始成绩!$A$3:$B$106,2,FALSE) -> 2.28
A35: 33 | B35: 王熙芃 | C35: =VLOOKUP(B35,原始成绩!$A$3:$C$106,3,FALSE) -> 2040341236 | D35: =VLOOKUP(B35,原始成绩!$A$3:$B$106,2,FALSE) -> 2.21
A36: 34 | B36: 谢雨彤 | C36: =VLOOKUP(B36,原始成绩!$A$3:$C$106,3,FALSE) -> 2040341243 | D36: =VLOOKUP(B36,原始成绩!$A$3:$B$106,2,FALSE) -> 2.21
A37: 35 | B37: 曾梓慧 | C37: =VLOOKUP(B37,原始成绩!$A$3:$C$106,3,FALSE) -> 2040341154 | D37: =VLOOKUP(B37,原始成绩!$A$3:$B$106,2,FALSE) -> 2.2
A38: 36 | B38: 万欣欣 | C38: =VLOOKUP(B38,原始成绩!$A$3:$C$106,3,FALSE) -> 2040341234 | D38: =VLOOKUP(B38,原始成绩!$A$3:$B$106,2,FALSE) -> 2.19
A39: 37 | B39: 温佳琪 | C39: =VLOOKUP(B39,原始成绩!$A$3:$C$106,3,FALSE) -> 2040341140 | D39: =VLOOKUP(B39,原始成绩!$A$3:$B$106,2,FALSE) -> 2.18
A40: 38 | B40: 宋俊豪 | C40: =VLOOKUP(B40,原始成绩!$A$3:$C$106,3,FALSE) -> 2040341231 | D40: =VLOOKUP(B40,原始成绩!$A$3:$B$106,2,FALSE) -> 2.01
A41: 39 | B41: 黎浩辉 | C41: =VLOOKUP(B41,原始成绩!$A$3:$C$106,3,FALSE) -> 1940113102 | D41: =VLOOKUP(B41,原始成绩!$A$3:$B$106,2,FALSE) -> 2
A42: 40 | B42: 陈铭杰 | C42: =VLOOKUP(B42,原始成绩!$A$3:$C$106,3,FALSE) -> 2040341103 | D42: =VLOOKUP(B42,原始成绩!$A$3:$B$106,2,FALSE) -> 1.99
A43: 41 | B43: 李琼 | C43: =VLOOKUP(B43,原始成绩!$A$3:$C$106,3,FALSE) -> 2040341219 | D43: =VLOOKUP(B43,原始成绩!$A$3:$B$106,2,FALSE) -> 1.77
A44: 42 | B44: 萧睿智 | C44: =VLOOKUP(B44,原始成绩!$A$3:$C$106,3,FALSE) -> 2040341150 | D44: =VLOOKUP(B44,原始成绩!$A$3:$B$106,2,FALSE) -> 1.75
... A46: 44 | B46: 蔡芸簇 | C46: =VLOOKUP(B46,原始成绩!$A$3:$C$106,3,FALSE) -> 2040341260 | D46: =VLOOKUP(B46,原始成绩!$A$3:$B$106,2,FALSE) -> 1.37
