Workbook

Sheet 原始成绩
A1: 20金融学类学生成绩汇总
A2: 姓名 | B2: 绩点 | C2: 学号 | D2: 平均成绩（加权）
A3: 郑兆国 | B3: 3.85 | C3: 2040340255 | D3: 88.5
A4: 钟芷颖 | B4: 3.48 | C4: 2040340257 | D4: 84.84
A5: 苏缨琪 | B5: 3.43 | C5: 2040340136 | D5: 84.31
A6: 邓莹莹 | B6: 3.35 | C6: 2040340207 | D6: 83.53
A7: 钱敏莹 | B7: 3.31 | C7: 2040340230 | D7: 83.09
A8: 梁紫婷 | B8: 3.29 | C8: 2040340124 | D8: 82.9
A9: 熊文杰 | B9: 3.25 | C9: 2040340243 | D9: 82.5
A10: 杨思琪 | B10: 3.24 | C10: 2040340244 | D10: 82.42
A11: 梁玉婷 | B11: 3.21 | C11: 2040340123 | D11: 82.1
A12: 单国瑞 | B12: 3.19 | C12: 2040340106 | D12: 81.85
A13: 钟思琪 | B13: 3.18 | C13: 2040340152 | D13: 81.84
A14: 毛敏佳 | B14: 3.17 | C14: 2040340130 | D14: 81.7
... A87: 张文婷 | B87: 0.35 | C87: 1940340350 | D87: 35.15

Sheet 志愿汇总
A1: 第一志愿 | B1: 金融学（56人） | C1: 投资学（29人） | E1: 第二志愿 | F1: 金融学（29人） | G1: 投资学（56人）
B2: 李佳 | C2: 张占炀 | F2: 张占炀 | G2: 李佳
B3: 谢依琪 | C3: 林言芯 | F3: 林言芯 | G3: 谢依琪
B4: 苏静 | C4: 魏蕊鑫 | F4: 魏蕊鑫 | G4: 苏静
B5: 刘斌辉 | C5: 唐芳芳 | F5: 唐芳芳 | G5: 刘斌辉
B6: 关永楗 | C6: 黄楚媚 | F6: 黄楚媚 | G6: 关永楗
B7: 莫梓贤 | C7: 于美睿 | F7: 于美睿 | G7: 莫梓贤
B8: 罗梓澎 | C8: 毛敏佳 | F8: 毛敏佳 | G8: 罗梓澎
B9: 吴文欣 | C9: 苏廷婷 | F9: 苏廷婷 | G9: 吴文欣
B10: 杨尚琴 | C10: 冯梦谷 | F10: 冯梦谷 | G10: 杨尚琴
B11: 陈琦丽 | C11: 江茗茜 | F11: 江茗茜 | G11: 陈琦丽
B12: 陈阳 | C12: 罗咏思 | F12: 罗咏思 | G12: 陈阳
B13: 黄振鑫 | C13: 陈祥祥 | F13: 陈祥祥 | G13: 黄振鑫
... B30: 霍梓豪 | C30: 曾远威 | F30: 曾远威 | G30: 霍梓豪
B31: 劳泳茵 | G31: 劳泳茵
B32: 李钦海 | G32: 李钦海
B33: 李伊彤 | G33: 李伊彤
B34: 梁凯颖 | G34: 梁凯颖
B35: 林燕萍 | G35: 林燕萍
B36: 刘曼玲 | G36: 刘曼玲
B37: 刘晓熹 | G37: 刘晓熹
B38: 钱敏莹 | G38: 钱敏莹
B39: 邱靖然 | G39: 邱靖然
B40: 邱滢熹 | G40: 邱滢熹
B41: 全佩夫 | G41: 全佩夫
B42: 任慧欣 | G42: 任慧欣
... B57: 曹颖欣 | G57: 曹颖欣

Sheet 录取过程
A1: 金融学专业（56人） | F1: 投资学专业（29人）
A2: 名次 | B2: 金融学 | C2: 绩点 | D2: 加权平均分 | F2: 名次 | G2: 投资学（29人） | H2: 绩点 | I2: 加权平均分 | K2: 第二志愿学生汇总 | L2: 绩点 | M2: 录取志愿区间 | N2: 最终录取专业 | O2: 备注
A3: 1 | B3: 郑兆国 | C3: =VLOOKUP(B3,原始成绩!$A$3:$B$87,2,FALSE) -> 3.85 | D3: =VLOOKUP(B3,原始成绩!$A$3:$D$87,4,FALSE) -> 88.5 | F3: 1 | G3: 张占炀 | H3: =VLOOKUP(G3,原始成绩!$A$3:$C$87,2,FALSE) -> 2.93 | I3: =VLOOKUP(G3,原始成绩!$A$3:$D$87,4,FALSE) -> 79.34 | K3: 王治粤 | L3: 1.88 | M3: 第二志愿 | N3: 投资学
A4: 2 | B4: 钟芷颖 | C4: =VLOOKUP(B4,原始成绩!$A$3:$B$87,2,FALSE) -> 3.48 | D4: =VLOOKUP(B4,原始成绩!$A$3:$D$87,4,FALSE) -> 84.84 | F4: 2 | G4: 林言芯 | H4: =VLOOKUP(G4,原始成绩!$A$3:$C$87,2,FALSE) -> 2.43 | I4: =VLOOKUP(G4,原始成绩!$A$3:$D$87,4,FALSE) -> 74.28 | K4: 邱滢熹 | L4: 1.87 | M4: 第二志愿 | N4: 投资学
A5: 3 | B5: 邓莹莹 | C5: =VLOOKUP(B5,原始成绩!$A$3:$B$87,2,FALSE) -> 3.35 | D5: =VLOOKUP(B5,原始成绩!$A$3:$D$87,4,FALSE) -> 83.53 | F5: 3 | G5: 魏蕊鑫 | H5: =VLOOKUP(G5,原始成绩!$A$3:$C$87,2,FALSE) -> 2.65 | I5: =VLOOKUP(G5,原始成绩!$A$3:$D$87,4,FALSE) -> 76.51 | K5: 吴禹椽 | L5: 1.8 | M5: 第二志愿 | N5: 投资学
A6: 4 | B6: 钱敏莹 | C6: =VLOOKUP(B6,原始成绩!$A$3:$B$87,2,FALSE) -> 3.31 | D6: =VLOOKUP(B6,原始成绩!$A$3:$D$87,4,FALSE) -> 83.09 | F6: 4 | G6: 唐芳芳 | H6: =VLOOKUP(G6,原始成绩!$A$3:$C$87,2,FALSE) -> 2.06 | I6: =VLOOKUP(G6,原始成绩!$A$3:$D$87,4,FALSE) -> 69.91 | K6: 刘斌辉 | L6: 1.69 | M6: 第二志愿 | N6: 投资学
A7: 5 | B7: 杨思琪 | C7: =VLOOKUP(B7,原始成绩!$A$3:$B$87,2,FALSE) -> 3.24 | D7: =VLOOKUP(B7,原始成绩!$A$3:$D$87,4,FALSE) -> 82.42 | F7: 5 | G7: 黄楚媚 | H7: =VLOOKUP(G7,原始成绩!$A$3:$C$87,2,FALSE) -> 2.37 | I7: =VLOOKUP(G7,原始成绩!$A$3:$D$87,4,FALSE) -> 73.68 | K7: 杨贤文 | L7: 1.54 | M7: 第二志愿 | N7: 投资学
A8: 6 | B8: 钟思琪 | C8: =VLOOKUP(B8,原始成绩!$A$3:$B$87,2,FALSE) -> 3.18 | D8: =VLOOKUP(B8,原始成绩!$A$3:$D$87,4,FALSE) -> 81.84 | F8: 6 | G8: 于美睿 | H8: =VLOOKUP(G8,原始成绩!$A$3:$C$87,2,FALSE) -> 2.7 | I8: =VLOOKUP(G8,原始成绩!$A$3:$D$87,4,FALSE) -> 77.02 | K8: 黄振鑫 | L8: 1.35 | M8: 第二志愿 | N8: 投资学
A9: 7 | B9: 于世亮 | C9: =VLOOKUP(B9,原始成绩!$A$3:$B$87,2,FALSE) -> 3.16 | D9: =VLOOKUP(B9,原始成绩!$A$3:$D$87,4,FALSE) -> 81.63 | F9: 7 | G9: 毛敏佳 | H9: =VLOOKUP(G9,原始成绩!$A$3:$C$87,2,FALSE) -> 3.17 | I9: =VLOOKUP(G9,原始成绩!$A$3:$D$87,4,FALSE) -> 81.7
A10: 8 | B10: 曹颖欣 | C10: =VLOOKUP(B10,原始成绩!$A$3:$B$87,2,FALSE) -> 3.16 | D10: =VLOOKUP(B10,原始成绩!$A$3:$D$87,4,FALSE) -> 81.58 | F10: 8 | G10: 苏廷婷 | H10: =VLOOKUP(G10,原始成绩!$A$3:$C$87,2,FALSE) -> 2.63 | I10: =VLOOKUP(G10,原始成绩!$A$3:$D$87,4,FALSE) -> 76.27
A11: 9 | B11: 底蕴涵 | C11: =VLOOKUP(B11,原始成绩!$A$3:$B$87,2,FALSE) -> 3.14 | D11: =VLOOKUP(B11,原始成绩!$A$3:$D$87,4,FALSE) -> 81.42 | F11: 9 | G11: 冯梦谷 | H11: =VLOOKUP(G11,原始成绩!$A$3:$C$87,2,FALSE) -> 1.95 | I11: =VLOOKUP(G11,原始成绩!$A$3:$D$87,4,FALSE) -> 69.53
A12: 10 | B12: 邱靖然 | C12: =VLOOKUP(B12,原始成绩!$A$3:$B$87,2,FALSE) -> 3.13 | D12: =VLOOKUP(B12,原始成绩!$A$3:$D$87,4,FALSE) -> 81.25 | F12: 10 | G12: 江茗茜 | H12: =VLOOKUP(G12,原始成绩!$A$3:$C$87,2,FALSE) -> 3.05 | I12: =VLOOKUP(G12,原始成绩!$A$3:$D$87,4,FALSE) -> 80.52
A13: 11 | B13: 王瑞夫 | C13: =VLOOKUP(B13,原始成绩!$A$3:$B$87,2,FALSE) -> 3.06 | D13: =VLOOKUP(B13,原始成绩!$A$3:$D$87,4,FALSE) -> 80.64 | F13: 11 | G13: 罗咏思 | H13: =VLOOKUP(G13,原始成绩!$A$3:$C$87,2,FALSE) -> 2.14 | I13: =VLOOKUP(G13,原始成绩!$A$3:$D$87,4,FALSE) -> 71.41
A14: 12 | B14: 黄楚婷 | C14: =VLOOKUP(B14,原始成绩!$A$3:$B$87,2,FALSE) -> 3.06 | D14: =VLOOKUP(B14,原始成绩!$A$3:$D$87,4,FALSE) -> 80.63 | F14: 12 | G14: 陈祥祥 | H14: =VLOOKUP(G14,原始成绩!$A$3:$C$87,2,FALSE) -> 3.15 | I14: =VLOOKUP(G14,原始成绩!$A$3:$D$87,4,FALSE) -> 81.47
A15: 13 | B15: 郑幸子 | C15: =VLOOKUP(B15,原始成绩!$A$3:$B$87,2,FALSE) -> 3.03 | D15: =VLOOKUP(B15,原始成绩!$A$3:$D$87,4,FALSE) -> 80.27 | F15: 13 | G15: 梁紫婷 | H15: =VLOOKUP(G15,原始成绩!$A$3:$C$87,2,FALSE) -> 3.29 | I15: =VLOOKUP(G15,原始成绩!$A$3:$D$87,4,FALSE) -> 82.9
A16: 14 | B16: 关永楗 | C16: =VLOOKUP(B16,原始成绩!$A$3:$B$87,2,FALSE) -> 2.98 | D16: =VLOOKUP(B16,原始成绩!$A$3:$D$87,4,FALSE) -> 78.69 | F16: 14 | G16: 单国瑞 | H16: =VLOOKUP(G16,原始成绩!$A$3:$C$87,2,FALSE) -> 3.19 | I16: =VLOOKUP(G16,原始成绩!$A$3:$D$87,4,FALSE) -> 81.85
A17: 15 | B17: 林燕萍 | C17: =VLOOKUP(B17,原始成绩!$A$3:$B$87,2,FALSE) -> 2.97 | D17: =VLOOKUP(B17,原始成绩!$A$3:$D$87,4,FALSE) -> 79.68 | F17: 15 | G17: 余柏熙 | H17: =VLOOKUP(G17,原始成绩!$A$3:$C$87,2,FALSE) -> 2.14 | I17: =VLOOKUP(G17,原始成绩!$A$3:$D$87,4,FALSE) -> 71.37
A18: 16 | B18: 沈楚桑 | C18: =VLOOKUP(B18,原始成绩!$A$3:$B$87,2,FALSE) -> 2.94 | D18: =VLOOKUP(B18,原始成绩!$A$3:$D$87,4,FALSE) -> 79.4 | F18: 16 | G18: 梁玉婷 | H18: =VLOOKUP(G18,原始成绩!$A$3:$C$87,2,FALSE) -> 3.21 | I18: =VLOOKUP(G18,原始成绩!$A$3:$D$87,4,FALSE) -> 82.1
A19: 17 | B19: 田汶妮 | C19: =VLOOKUP(B19,原始成绩!$A$3:$B$87,2,FALSE) -> 2.94 | D19: =VLOOKUP(B19,原始成绩!$A$3:$D$87,4,FALSE) -> 79.4 | F19: 17 | G19: 周莹 | H19: =VLOOKUP(G19,原始成绩!$A$3:$C$87,2,FALSE) -> 2.95 | I19: =VLOOKUP(G19,原始成绩!$A$3:$D$87,4,FALSE) -> 79.49
A20: 18 | B20: 刘曼玲 | C20: =VLOOKUP(B20,原始成绩!$A$3:$B$87,2,FALSE) -> 2.89 | D20: =VLOOKUP(B20,原始成绩!$A$3:$D$87,4,FALSE) -> 78.87 | F20: 18 | G20: 张文婷 | H20: =VLOOKUP(G20,原始成绩!$A$3:$C$87,2,FALSE) -> 0.35 | I20: =VLOOKUP(G20,原始成绩!$A$3:$D$87,4,FALSE) -> 35.15
... A31: 29 | B31: 黄钡 | C31: =VLOOKUP(B31,原始成绩!$A$3:$B$87,2,FALSE) -> 2.59 | D31: =VLOOKUP(B31,原始成绩!$A$3:$D$87,4,FALSE) -> 75.14 | F31: 29 | G31: 曾远威 | H31: =VLOOKUP(G31,原始成绩!$A$3:$C$87,2,FALSE) -> 2.03 | I31: =VLOOKUP(G31,原始成绩!$A$3:$D$87,4,FALSE) -> 70.5
A32: 30 | B32: 谢依琪 | C32: =VLOOKUP(B32,原始成绩!$A$3:$B$87,2,FALSE) -> 2.58 | D32: =VLOOKUP(B32,原始成绩!$A$3:$D$87,4,FALSE) -> 75.84 | G32: 王治粤 | H32: =VLOOKUP(G32,原始成绩!$A$3:$B$87,2,FALSE) -> 1.88
A33: 31 | B33: 刘晓熹 | C33: =VLOOKUP(B33,原始成绩!$A$3:$B$87,2,FALSE) -> 2.53 | D33: =VLOOKUP(B33,原始成绩!$A$3:$D$87,4,FALSE) -> 75.28 | G33: 邱滢熹 | H33: =VLOOKUP(G33,原始成绩!$A$3:$B$87,2,FALSE) -> 1.87
A34: 32 | B34: 劳泳茵 | C34: =VLOOKUP(B34,原始成绩!$A$3:$B$87,2,FALSE) -> 2.52 | D34: =VLOOKUP(B34,原始成绩!$A$3:$D$87,4,FALSE) -> 76.12 | G34: 吴禹椽 | H34: =VLOOKUP(G34,原始成绩!$A$3:$B$87,2,FALSE) -> 1.8
A35: 33 | B35: 彭欣颖 | C35: =VLOOKUP(B35,原始成绩!$A$3:$B$87,2,FALSE) -> 2.5 | D35: =VLOOKUP(B35,原始成绩!$A$3:$D$87,4,FALSE) -> 74.76 | G35: 刘斌辉 | H35: =VLOOKUP(G35,原始成绩!$A$3:$B$87,2,FALSE) -> 1.69
A36: 34 | B36: 郑晓洲 | C36: =VLOOKUP(B36,原始成绩!$A$3:$B$87,2,FALSE) -> 2.49 | D36: =VLOOKUP(B36,原始成绩!$A$3:$D$87,4,FALSE) -> 74.9 | G36: 杨贤文 | H36: =VLOOKUP(G36,原始成绩!$A$3:$B$87,2,FALSE) -> 1.54
A37: 35 | B37: 叶沛青 | C37: =VLOOKUP(B37,原始成绩!$A$3:$B$87,2,FALSE) -> 2.48 | D37: =VLOOKUP(B37,原始成绩!$A$3:$D$87,4,FALSE) -> 74.8 | G37: 黄振鑫 | H37: =VLOOKUP(G37,原始成绩!$A$3:$B$87,2,FALSE) -> 1.35
A38: 36 | B38: 陈琦丽 | C38: =VLOOKUP(B38,原始成绩!$A$3:$B$87,2,FALSE) -> 2.47 | D38: =VLOOKUP(B38,原始成绩!$A$3:$D$87,4,FALSE) -> 74.68
A39: 37 | B39: 梁凯颖 | C39: =VLOOKUP(B39,原始成绩!$A$3:$B$87,2,FALSE) -> 2.45 | D39: =VLOOKUP(B39,原始成绩!$A$3:$D$87,4,FALSE) -> 74.87
A40: 38 | B40: 霍梓豪 | C40: =VLOOKUP(B40,原始成绩!$A$3:$B$87,2,FALSE) -> 2.36 | D40: =VLOOKUP(B40,原始成绩!$A$3:$D$87,4,FALSE) -> 73.58
A41: 39 | B41: 全佩夫 | C41: =VLOOKUP(B41,原始成绩!$A$3:$B$87,2,FALSE) -> 2.34 | D41: =VLOOKUP(B41,原始成绩!$A$3:$D$87,4,FALSE) -> 73.36
A42: 40 | B42: 苏静 | C42: =VLOOKUP(B42,原始成绩!$A$3:$B$87,2,FALSE) -> 2.3 | D42: =VLOOKUP(B42,原始成绩!$A$3:$D$87,4,FALSE) -> 73.01
A43: 41 | B43: 曾令权 | C43: =VLOOKUP(B43,原始成绩!$A$3:$B$87,2,FALSE) -> 2.28 | D43: =VLOOKUP(B43,原始成绩!$A$3:$D$87,4,FALSE) -> 72.83
A44: 42 | B44: 吴文欣 | C44: =VLOOKUP(B44,原始成绩!$A$3:$B$87,2,FALSE) -> 2.19 | D44: =VLOOKUP(B44,原始成绩!$A$3:$D$87,4,FALSE) -> 69.71
A45: 43 | B45: 陈银冬 | C45: =VLOOKUP(B45,原始成绩!$A$3:$B$87,2,FALSE) -> 2.18 | D45: =VLOOKUP(B45,原始成绩!$A$3:$D$87,4,FALSE) -> 72.5
A46: 44 | B46: 陈碧雯 | C46: =VLOOKUP(B46,原始成绩!$A$3:$B$87,2,FALSE) -> 2.16 | D46: =VLOOKUP(B46,原始成绩!$A$3:$D$87,4,FALSE) -> 71.61
A47: 45 | B47: 张紫蕾 | C47: =VLOOKUP(B47,原始成绩!$A$3:$B$87,2,FALSE) -> 2.12 | D47: =VLOOKUP(B47,原始成绩!$A$3:$D$87,4,FALSE) -> 71.71
A48: 46 | B48: 黎金桥 | C48: =VLOOKUP(B48,原始成绩!$A$3:$B$87,2,FALSE) -> 2.1 | D48: =VLOOKUP(B48,原始成绩!$A$3:$D$87,4,FALSE) -> 71.69
A49: 47 | B49: 杨尚琴 | C49: =VLOOKUP(B49,原始成绩!$A$3:$B$87,2,FALSE) -> 2.06 | D49: =VLOOKUP(B49,原始成绩!$A$3:$D$87,4,FALSE) -> 68.03
... A58: 56 | B58: 黄振鑫 | C58: =VLOOKUP(B58,原始成绩!$A$3:$B$87,2,FALSE) -> 1.35 | D58: =VLOOKUP(B58,原始成绩!$A$3:$D$87,4,FALSE) -> 62.57

Sheet 最终录取结果
A1: 20金融学（50人） | F1: 20投资学（35人）
A2: 名次 | B2: 姓名 | C2: 学号 | D2: 绩点 | F2: 名次 | G2: 姓名 | H2: 学号 | I2: 绩点
A3: 1 | B3: 郑兆国 | C3: =VLOOKUP(B3,原始成绩!$A$3:$C$87,3,FALSE) -> 2040340255 | D3: =VLOOKUP(B3,原始成绩!$A$3:$B$87,2,FALSE) -> 3.85 | F3: 1 | G3: 苏缨琪 | H3: =VLOOKUP(G3,原始成绩!$A$3:$C$87,3,FALSE) -> 2040340136 | I3: =VLOOKUP(G3,原始成绩!$A$3:$B$87,2,FALSE) -> 3.43
A4: 2 | B4: 钟芷颖 | C4: =VLOOKUP(B4,原始成绩!$A$3:$C$87,3,FALSE) -> 2040340257 | D4: =VLOOKUP(B4,原始成绩!$A$3:$B$87,2,FALSE) -> 3.48 | F4: 2 | G4: 梁紫婷 | H4: =VLOOKUP(G4,原始成绩!$A$3:$C$87,3,FALSE) -> 2040340124 | I4: =VLOOKUP(G4,原始成绩!$A$3:$B$87,2,FALSE) -> 3.29
A5: 3 | B5: 邓莹莹 | C5: =VLOOKUP(B5,原始成绩!$A$3:$C$87,3,FALSE) -> 2040340207 | D5: =VLOOKUP(B5,原始成绩!$A$3:$B$87,2,FALSE) -> 3.35 | F5: 3 | G5: 熊文杰 | H5: =VLOOKUP(G5,原始成绩!$A$3:$C$87,3,FALSE) -> 2040340243 | I5: =VLOOKUP(G5,原始成绩!$A$3:$B$87,2,FALSE) -> 3.25
A6: 4 | B6: 钱敏莹 | C6: =VLOOKUP(B6,原始成绩!$A$3:$C$87,3,FALSE) -> 2040340230 | D6: =VLOOKUP(B6,原始成绩!$A$3:$B$87,2,FALSE) -> 3.31 | F6: 4 | G6: 梁玉婷 | H6: =VLOOKUP(G6,原始成绩!$A$3:$C$87,3,FALSE) -> 2040340123 | I6: =VLOOKUP(G6,原始成绩!$A$3:$B$87,2,FALSE) -> 3.21
A7: 5 | B7: 杨思琪 | C7: =VLOOKUP(B7,原始成绩!$A$3:$C$87,3,FALSE) -> 2040340244 | D7: =VLOOKUP(B7,原始成绩!$A$3:$B$87,2,FALSE) -> 3.24 | F7: 5 | G7: 单国瑞 | H7: =VLOOKUP(G7,原始成绩!$A$3:$C$87,3,FALSE) -> 2040340106 | I7: =VLOOKUP(G7,原始成绩!$A$3:$B$87,2,FALSE) -> 3.19
A8: 6 | B8: 钟思琪 | C8: =VLOOKUP(B8,原始成绩!$A$3:$C$87,3,FALSE) -> 2040340152 | D8: =VLOOKUP(B8,原始成绩!$A$3:$B$87,2,FALSE) -> 3.18 | F8: 6 | G8: 毛敏佳 | H8: =VLOOKUP(G8,原始成绩!$A$3:$C$87,3,FALSE) -> 2040340130 | I8: =VLOOKUP(G8,原始成绩!$A$3:$B$87,2,FALSE) -> 3.17
A9: 7 | B9: 于世亮 | C9: =VLOOKUP(B9,原始成绩!$A$3:$C$87,3,FALSE) -> 2040340146 | D9: =VLOOKUP(B9,原始成绩!$A$3:$B$87,2,FALSE) -> 3.16 | F9: 7 | G9: 陈祥祥 | H9: =VLOOKUP(G9,原始成绩!$A$3:$C$87,3,FALSE) -> 2040340154 | I9: =VLOOKUP(G9,原始成绩!$A$3:$B$87,2,FALSE) -> 3.15
A10: 8 | B10: 曹颖欣 | C10: =VLOOKUP(B10,原始成绩!$A$3:$C$87,3,FALSE) -> 2040340259 | D10: =VLOOKUP(B10,原始成绩!$A$3:$B$87,2,FALSE) -> 3.16 | F10: 8 | G10: 江茗茜 | H10: =VLOOKUP(G10,原始成绩!$A$3:$C$87,3,FALSE) -> 2040340118 | I10: =VLOOKUP(G10,原始成绩!$A$3:$B$87,2,FALSE) -> 3.05
A11: 9 | B11: 底蕴涵 | C11: =VLOOKUP(B11,原始成绩!$A$3:$C$87,3,FALSE) -> 2040340107 | D11: =VLOOKUP(B11,原始成绩!$A$3:$B$87,2,FALSE) -> 3.14 | F11: 9 | G11: 殷祉暄 | H11: =VLOOKUP(G11,原始成绩!$A$3:$C$87,3,FALSE) -> 2040340248 | I11: =VLOOKUP(G11,原始成绩!$A$3:$B$87,2,FALSE) -> 3.03
A12: 10 | B12: 邱靖然 | C12: =VLOOKUP(B12,原始成绩!$A$3:$C$87,3,FALSE) -> 2040340231 | D12: =VLOOKUP(B12,原始成绩!$A$3:$B$87,2,FALSE) -> 3.13 | F12: 10 | G12: 周莹 | H12: =VLOOKUP(G12,原始成绩!$A$3:$C$87,3,FALSE) -> 2040340102 | I12: =VLOOKUP(G12,原始成绩!$A$3:$B$87,2,FALSE) -> 2.95
A13: 11 | B13: 王瑞夫 | C13: =VLOOKUP(B13,原始成绩!$A$3:$C$87,3,FALSE) -> 2040340139 | D13: =VLOOKUP(B13,原始成绩!$A$3:$B$87,2,FALSE) -> 3.06 | F13: 11 | G13: 张占炀 | H13: =VLOOKUP(G13,原始成绩!$A$3:$C$87,3,FALSE) -> 2040340149 | I13: =VLOOKUP(G13,原始成绩!$A$3:$B$87,2,FALSE) -> 2.93
A14: 12 | B14: 黄楚婷 | C14: =VLOOKUP(B14,原始成绩!$A$3:$C$87,3,FALSE) -> 2040340212 | D14: =VLOOKUP(B14,原始成绩!$A$3:$B$87,2,FALSE) -> 3.06 | F14: 12 | G14: 叶延涛 | H14: =VLOOKUP(G14,原始成绩!$A$3:$C$87,3,FALSE) -> 2040340247 | I14: =VLOOKUP(G14,原始成绩!$A$3:$B$87,2,FALSE) -> 2.75
... A37: 35 | B37: 叶沛青 | C37: =VLOOKUP(B37,原始成绩!$A$3:$C$87,3,FALSE) -> 2040340246 | D37: =VLOOKUP(B37,原始成绩!$A$3:$B$87,2,FALSE) -> 2.48 | F37: 35 | G37: 张文婷 | H37: =VLOOKUP(G37,原始成绩!$A$3:$C$87,3,FALSE) -> 1940340350 | I37: =VLOOKUP(G37,原始成绩!$A$3:$B$87,2,FALSE) -> 0.35
A38: 36 | B38: 陈琦丽 | C38: =VLOOKUP(B38,原始成绩!$A$3:$C$87,3,FALSE) -> 2040340105 | D38: =VLOOKUP(B38,原始成绩!$A$3:$B$87,2,FALSE) -> 2.47
A39: 37 | B39: 梁凯颖 | C39: =VLOOKUP(B39,原始成绩!$A$3:$C$87,3,FALSE) -> 2040340222 | D39: =VLOOKUP(B39,原始成绩!$A$3:$B$87,2,FALSE) -> 2.45
A40: 38 | B40: 霍梓豪 | C40: =VLOOKUP(B40,原始成绩!$A$3:$C$87,3,FALSE) -> 2040340214 | D40: =VLOOKUP(B40,原始成绩!$A$3:$B$87,2,FALSE) -> 2.36
A41: 39 | B41: 全佩夫 | C41: =VLOOKUP(B41,原始成绩!$A$3:$C$87,3,FALSE) -> 2040340233 | D41: =VLOOKUP(B41,原始成绩!$A$3:$B$87,2,FALSE) -> 2.34
A42: 40 | B42: 苏静 | C42: =VLOOKUP(B42,原始成绩!$A$3:$C$87,3,FALSE) -> 2040340134 | D42: =VLOOKUP(B42,原始成绩!$A$3:$B$87,2,FALSE) -> 2.3
A43: 41 | B43: 曾令权 | C43: =VLOOKUP(B43,原始成绩!$A$3:$C$87,3,FALSE) -> 2040340148 | D43: =VLOOKUP(B43,原始成绩!$A$3:$B$87,2,FALSE) -> 2.28
A44: 42 | B44: 吴文欣 | C44: =VLOOKUP(B44,原始成绩!$A$3:$C$87,3,FALSE) -> 2040340140 | D44: =VLOOKUP(B44,原始成绩!$A$3:$B$87,2,FALSE) -> 2.19
A45: 43 | B45: 陈银冬 | C45: =VLOOKUP(B45,原始成绩!$A$3:$C$87,3,FALSE) -> 2040340206 | D45: =VLOOKUP(B45,原始成绩!$A$3:$B$87,2,FALSE) -> 2.18
A46: 44 | B46: 陈碧雯 | C46: =VLOOKUP(B46,原始成绩!$A$3:$C$87,3,FALSE) -> 2040340203 | D46: =VLOOKUP(B46,原始成绩!$A$3:$B$87,2,FALSE) -> 2.16
A47: 45 | B47: 张紫蕾 | C47: =VLOOKUP(B47,原始成绩!$A$3:$C$87,3,FALSE) -> 2040340253 | D47: =VLOOKUP(B47,原始成绩!$A$3:$B$87,2,FALSE) -> 2.12
A48: 46 | B48: 黎金桥 | C48: =VLOOKUP(B48,原始成绩!$A$3:$C$87,3,FALSE) -> 2040340119 | D48: =VLOOKUP(B48,原始成绩!$A$3:$B$87,2,FALSE) -> 2.1
A49: 47 | B49: 杨尚琴 | C49: =VLOOKUP(B49,原始成绩!$A$3:$C$87,3,FALSE) -> 2040340144 | D49: =VLOOKUP(B49,原始成绩!$A$3:$B$87,2,FALSE) -> 2.06
... A52: 50 | B52: 陈阳 | C52: =VLOOKUP(B52,原始成绩!$A$3:$C$87,3,FALSE) -> 2040340103 | D52: =VLOOKUP(B52,原始成绩!$A$3:$B$87,2,FALSE) -> 1.88
